BEGIN:VCALENDAR
VERSION:2.0
PRODID:-//Events - ECPv6.15.19//NONSGML v1.0//EN
CALSCALE:GREGORIAN
METHOD:PUBLISH
X-ORIGINAL-URL:https://ticketing.zehnders.com
X-WR-CALDESC:Events for Events
REFRESH-INTERVAL;VALUE=DURATION:PT1H
X-Robots-Tag:noindex
X-PUBLISHED-TTL:PT1H
BEGIN:VTIMEZONE
TZID:America/Detroit
BEGIN:DAYLIGHT
TZOFFSETFROM:-0500
TZOFFSETTO:-0400
TZNAME:EDT
DTSTART:20240310T070000
END:DAYLIGHT
BEGIN:STANDARD
TZOFFSETFROM:-0400
TZOFFSETTO:-0500
TZNAME:EST
DTSTART:20241103T060000
END:STANDARD
BEGIN:DAYLIGHT
TZOFFSETFROM:-0500
TZOFFSETTO:-0400
TZNAME:EDT
DTSTART:20250309T070000
END:DAYLIGHT
BEGIN:STANDARD
TZOFFSETFROM:-0400
TZOFFSETTO:-0500
TZNAME:EST
DTSTART:20251102T060000
END:STANDARD
BEGIN:DAYLIGHT
TZOFFSETFROM:-0500
TZOFFSETTO:-0400
TZNAME:EDT
DTSTART:20260308T070000
END:DAYLIGHT
BEGIN:STANDARD
TZOFFSETFROM:-0400
TZOFFSETTO:-0500
TZNAME:EST
DTSTART:20261101T060000
END:STANDARD
BEGIN:DAYLIGHT
TZOFFSETFROM:-0500
TZOFFSETTO:-0400
TZNAME:EDT
DTSTART:20270314T070000
END:DAYLIGHT
BEGIN:STANDARD
TZOFFSETFROM:-0400
TZOFFSETTO:-0500
TZNAME:EST
DTSTART:20271107T060000
END:STANDARD
END:VTIMEZONE
BEGIN:VEVENT
DTSTART;VALUE=DATE:20251231
DTEND;VALUE=DATE:20260103
DTSTAMP:20260424T045843
CREATED:20250709T172104Z
LAST-MODIFIED:20251215T200414Z
UID:10000689-1767139200-1767398399@ticketing.zehnders.com
SUMMARY:New Year's Eve Celebration at Zehnder's Splash Village
DESCRIPTION:Join us for a magical New Year’s Eve celebration at Zehnder’s Splash Village Hotel and Waterpark and enjoy deluxe overnight accommodations including: \n• Dinner Buffet\n• Music and Dancing\n• Face Painting\n• Caricature Artist\n• Balloon Sculpting\n• Table Magic and Magic Show\n• Dessert Extravaganza\n• Party Favors\, FIREWORKS and a Toast at Midnight\n• Breakfast Buffet (one morning of your stay)\n• In-Room Gift \nEnjoy the following New Year’s Eve Buffet Dinner Selections:\n• Prime Rib AuJus – Carved to Order\n• Deep Fried Jumbo Shrimp\n• Baked Salmon\n• Zehnder’s Fried Chicken\n• Tri-Colored Tortellini Shrimp Alfredo\n• Chicken Tenders and Sauces\n• Cheese and Pepperoni Pizza by the Slice\n• Au Gratin Potatoes\n• Buttered Noodles with Crumb Topping\n• Buttered Corn\n• Seasonal Vegetables\n• Macaroni and Cheese\n• Cranberry Apple Relish\n• Cottage Cheese\n• Mixed Fruit\n• Zehnder’s Creamy Cabbage Salad\n• Michigan Cherry Salad\n• Assorted Dinner Rolls and Butter \nReservations required. Dinner reservations are required for this package. Call (844) 288-1484 to book or book online below. Click here to download flyer. \nBook Hotel Reservation
URL:https://ticketing.zehnders.com/event/new-years-eve-celebration-at-zehnders-splash-village-2/
LOCATION:Zehnder’s of Frankenmuth\, 730 S. Main Street\, Frankenmuth\, MI\, 48734\, United States
CATEGORIES:Events,Special Menu,Zehnder's Splash Village
ATTACH;FMTTYPE=image/jpeg:https://ticketing.zehnders.com/wp-content/uploads/2022/08/new-years-eve-2022.jpg
GEO:43.3270953;-83.7427951
X-APPLE-STRUCTURED-LOCATION;VALUE=URI;X-ADDRESS=Zehnder’s of Frankenmuth 730 S. Main Street Frankenmuth MI 48734 United States;X-APPLE-RADIUS=500;X-TITLE=730 S. Main Street:geo:-83.7427951,43.3270953
END:VEVENT
BEGIN:VEVENT
DTSTART;TZID=America/Detroit:20251213T120000
DTEND;TZID=America/Detroit:20251213T133000
DTSTAMP:20260424T045843
CREATED:20250918T162728Z
LAST-MODIFIED:20250918T191059Z
UID:10000711-1765627200-1765632600@ticketing.zehnders.com
SUMMARY:Lunch with Santa - December 13\, 2025
DESCRIPTION:At Zehnder’s\, the magic of the holidays isn’t just in the air; it’s on your plate! Join us on Saturday\, December 13th at 12:00 noon for a special Lunch with Santa at Zehnder’s Splash Village Hotel and Waterpark. Enjoy festive flavors\, enchanting stories and even a small gift from Santa himself. \nLunch Includes:\n• Fruit Cup\n• Chicken Tenders\n• Mashed Potatoes & Gravy\n• Christmas Cookie\n• Beverage \nCost is $25 per person\, children under 3 are FREE. All children ages 11 and under receive a FREE waterpark day pass to Zehnder’s Splash Village Hotel & Waterpark. Minimum of one adult ticket purchase is required. Call (989) 652-0450 for questions or book online below.
URL:https://ticketing.zehnders.com/event/lunch-with-santa-december-13-2025/
LOCATION:Zehnder’s Splash Village Hotel and Waterpark\, 1365 S. Main Street\, Frankenmuth\, MI\, 48734\, United States
CATEGORIES:Events,Holiday,Santa,Special Menu,Zehnder's Splash Village
ATTACH;FMTTYPE=image/jpeg:https://ticketing.zehnders.com/wp-content/uploads/2021/08/Lunch-with-Santa.jpg
GEO:43.3166829;83.7411178
X-APPLE-STRUCTURED-LOCATION;VALUE=URI;X-ADDRESS=Zehnder’s Splash Village Hotel and Waterpark 1365 S. Main Street Frankenmuth MI 48734 United States;X-APPLE-RADIUS=500;X-TITLE=1365 S. Main Street:geo:83.7411178,43.3166829
END:VEVENT
BEGIN:VEVENT
DTSTART;TZID=America/Detroit:20251206T130000
DTEND;TZID=America/Detroit:20251206T143000
DTSTAMP:20260424T045843
CREATED:20250918T161434Z
LAST-MODIFIED:20251204T145006Z
UID:10000710-1765026000-1765031400@ticketing.zehnders.com
SUMMARY:Lunch with Santa - December 6\, 2025
DESCRIPTION:At Zehnder’s\, the magic of the holidays isn’t just in the air; it’s on your plate! Join us on Saturday\, December 6th at 12:00 noon for a special Lunch with Santa at Zehnder’s Splash Village Hotel and Waterpark. Enjoy festive flavors\, enchanting stories and even a small gift from Santa himself. \nLunch Includes:\n• Fruit Cup\n• Chicken Tenders\n• Mashed Potatoes & Gravy\n• Christmas Cookie\n• Beverage \nCost is $25 per person\, children under 3 are FREE. All children ages 11 and under receive a FREE waterpark day pass to Zehnder’s Splash Village Hotel & Waterpark. Minimum of one adult ticket purchase is required. Call (989) 652-0450 for questions or book online below.
URL:https://ticketing.zehnders.com/event/lunch-with-santa-december-6-2025/
LOCATION:Zehnder’s Splash Village Hotel and Waterpark\, 1365 S. Main Street\, Frankenmuth\, MI\, 48734\, United States
CATEGORIES:Events,Holiday,Santa,Special Menu,Zehnder's Splash Village
ATTACH;FMTTYPE=image/jpeg:https://ticketing.zehnders.com/wp-content/uploads/2021/08/Lunch-with-Santa2.jpg
GEO:43.3166829;83.7411178
X-APPLE-STRUCTURED-LOCATION;VALUE=URI;X-ADDRESS=Zehnder’s Splash Village Hotel and Waterpark 1365 S. Main Street Frankenmuth MI 48734 United States;X-APPLE-RADIUS=500;X-TITLE=1365 S. Main Street:geo:83.7411178,43.3166829
END:VEVENT
BEGIN:VEVENT
DTSTART;VALUE=DATE:20250806
DTEND;VALUE=DATE:20250807
DTSTAMP:20260424T045843
CREATED:20250501T154022Z
LAST-MODIFIED:20250502T144128Z
UID:10000679-1754438400-1754524799@ticketing.zehnders.com
SUMMARY:Zehnder's One Day Kids Camp - August 6\, 2025
DESCRIPTION:Looking for a great Kid’s Summer Camp program? Are your children always helping in the kitchen\, asking to bake cookies or how to cook? Then Zehnder’s “Culinary Skills with a Splash” Day Camp is perfect for your child! \nWhat Will Your Child Experience?\nThe days begins with our professional bakers teaching your children how to make fresh baked goods from scratch. They may even bring some goodies home to share.\nNext\, they meet our Chefs who give hands-on instructions on preparing their lunch from start to finish. Before and during lunch\, campers will be taught some basic dining etiquette and table manners. \nAfter lunch\, there is craft time and campers will participate in outdoor activities. The day will conclude with time to play at Zehnder’s Splash Village Hotel and Waterpark. \nDaily Activities\n• Bakery – Paint by Number Cookies & Garlic Toast\n• Kitchen – Help Prepare Lunch: Zehnder’s Fried Chicken\, Corn on the Cob\, Potato Dinner Rolls\, Mashed Potatoes\, Ice Cream Sundaes & Homemade Butter\n• Craft Time – Make a unique craft to take home\n• Outdoor Activities\n• Splash Village – Supervised Free Time in the Waterpark and Arcade \nCamp Fee Includes\n• Camp T-Shirt\n• Chef’s Hat\n• Camp Photo\n• All Supplies and Ingredients\n• Certificate of Participation\n• Recipe Book\n• Staff Supervision \nFor boys and girls ages 9-12. Reservations required. Cost is $100 per person. Registration is limited to 24 campers per session\, minimum 15 required. Registration and payment due by Monday\, July 14\, 2025. Book online below or call (989) 652-0450. Click here to download a flyer.
URL:https://ticketing.zehnders.com/event/zehnders-one-day-kids-camp-august-6-2025/
LOCATION:Zehnder’s of Frankenmuth\, 730 S. Main Street\, Frankenmuth\, MI\, 48734\, United States
CATEGORIES:Events,Kids Camp,Special Menu,Zehnder's Bakery,Zehnder's of Frankenmuth,Zehnder's Splash Village
ATTACH;FMTTYPE=image/jpeg:https://ticketing.zehnders.com/wp-content/uploads/2025/04/Kids-Camp-2025-3.jpg
GEO:43.3270953;-83.7427951
X-APPLE-STRUCTURED-LOCATION;VALUE=URI;X-ADDRESS=Zehnder’s of Frankenmuth 730 S. Main Street Frankenmuth MI 48734 United States;X-APPLE-RADIUS=500;X-TITLE=730 S. Main Street:geo:-83.7427951,43.3270953
END:VEVENT
BEGIN:VEVENT
DTSTART;VALUE=DATE:20250708
DTEND;VALUE=DATE:20250711
DTSTAMP:20260424T045843
CREATED:20250501T154022Z
LAST-MODIFIED:20250527T144246Z
UID:10000678-1751932800-1752191999@ticketing.zehnders.com
SUMMARY:Zehnder's Kids Camp - July 8-11\, 2025
DESCRIPTION:Looking for a great Kid’s Summer Camp program? Are your children always helping in the kitchen\, asking to bake cookies or how to cook? Then Zehnder’s “Culinary Skills with a Splash” Day Camp is perfect for your child! \nWhat Will Your Child Experience?\nThe days begins with our professional bakers teaching your children how to make fresh baked goods from scratch. They may even bring some goodies home to share.\nNext\, they meet our Chefs who give hands-on instructions on preparing their lunch from start to finish. Before and during lunch\, campers will be taught some basic dining etiquette and table manners each day. \nAfter lunch\, there is craft time and campers will participate in outdoor activities. Each day will conclude with time to play at Zehnder’s Splash Village Hotel and Waterpark. \nDaily Activities\nDay One\n• Tour of Zehnder’s Restaurant\n• Bakery – Garlic Knots & Paint by Number Cookies\n• Kitchen – Pizza Pockets & Fruit Sushi\n• Craft Time\n• Outdoor Activities\n• Splash Village – Outdoor Pool and Waterpark Fun \nDay Two\n• Bakery – Hamburger Whoopie Pies\n• Kitchen/Lunch – Hamburger\, Fries & Homemade Applesauce\n• Craft Time\n• Outdoor Activities\n• Splash Village – Outdoor Pool and Waterpark Fun \nDay Three\n• Bakery – Homemade Pop Tarts\n• Kitchen – Zehnder’s Fried Chicken\, Corn on the Cob\, Potato Dinner Rolls\, Mashed Potatoes\, Ice Cream Sundaes & Homemade Butter\n• Craft Time\n• Splash Village – Outdoor Pool and Waterpark Fun \nCamp Fee Includes\n• Camp T-Shirt\n• Chef’s Hat\n• Camp Photo\n• All Supplies and Ingredients\n• Certificate of Participation\n• Recipe Book\n• Staff Supervision \nFor boys and girls ages 9-12. Reservations required. Cost is $295 per person for all three days. Registration is limited to 24 campers per session\, minimum 15 required. Registration and payment due by Monday\, May 26\, 2025. Book online below or call (989) 652-0450. Click here to download a flyer.
URL:https://ticketing.zehnders.com/event/zehnders-kids-camp-july-9-11-2025/
LOCATION:Zehnder’s of Frankenmuth\, 730 S. Main Street\, Frankenmuth\, MI\, 48734\, United States
CATEGORIES:Events,Kids Camp,Special Menu,Zehnder's Bakery,Zehnder's of Frankenmuth,Zehnder's Splash Village
ATTACH;FMTTYPE=image/jpeg:https://ticketing.zehnders.com/wp-content/uploads/2025/04/Kids-Camp-2025-2.jpg
GEO:43.3270953;-83.7427951
X-APPLE-STRUCTURED-LOCATION;VALUE=URI;X-ADDRESS=Zehnder’s of Frankenmuth 730 S. Main Street Frankenmuth MI 48734 United States;X-APPLE-RADIUS=500;X-TITLE=730 S. Main Street:geo:-83.7427951,43.3270953
END:VEVENT
BEGIN:VEVENT
DTSTART;VALUE=DATE:20250623
DTEND;VALUE=DATE:20250626
DTSTAMP:20260424T045843
CREATED:20250501T154023Z
LAST-MODIFIED:20250625T171906Z
UID:10000677-1750636800-1750895999@ticketing.zehnders.com
SUMMARY:Zehnder's Kids Camp - June 23-25\, 2025
DESCRIPTION:Looking for a great Kid’s Summer Camp program? Are your children always helping in the kitchen\, asking to bake cookies or how to cook? Then Zehnder’s “Culinary Skills with a Splash” Day Camp is perfect for your child! \nWhat Will Your Child Experience?\nThe days begins with our professional bakers teaching your children how to make fresh baked goods from scratch. They may even bring some goodies home to share.\nNext\, they meet our Chefs who give hands-on instructions on preparing their lunch from start to finish. Before and during lunch\, campers will be taught some basic dining etiquette and table manners each day. \nAfter lunch\, there is craft time and campers will participate in outdoor activities. Each day will conclude with time to play at Zehnder’s Splash Village Hotel and Waterpark. \nDaily Activities\nDay One\n• Tour of Zehnder’s Restaurant\n• Bakery – Garlic Knots & Paint by Number Cookies\n• Kitchen – Pizza Pockets & Fruit Sushi\n• Craft Time\n• Outdoor Activities\n• Splash Village – Outdoor Pool and Waterpark Fun \nDay Two\n• Bakery – Hamburger Whoopie Pies\n• Kitchen/Lunch – Hamburger\, Fries & Homemade Applesauce\n• Craft Time\n• Outdoor Activities\n• Splash Village – Outdoor Pool and Waterpark Fun \nDay Three\n• Bakery – Homemade Pop Tarts\n• Kitchen – Zehnder’s Fried Chicken\, Corn on the Cob\, Potato Dinner Rolls\, Mashed Potatoes\, Ice Cream Sundaes & Homemade Butter\n• Craft Time\n• Splash Village – Outdoor Pool and Waterpark Fun \nCamp Fee Includes\n• Camp T-Shirt\n• Chef’s Hat\n• Camp Photo\n• All Supplies and Ingredients\n• Certificate of Participation\n• Recipe Book\n• Staff Supervision \nFor boys and girls ages 9-12. Reservations required. Cost is $295 per person for all three days. Registration is limited to 24 campers per session\, minimum 15 required. Registration and payment due by Monday\, May 26\, 2025. Book online below or call (989) 652-0450. Click here to download a flyer.
URL:https://ticketing.zehnders.com/event/zehnders-kids-camp-june-18-20-2025/
LOCATION:Zehnder’s of Frankenmuth\, 730 S. Main Street\, Frankenmuth\, MI\, 48734\, United States
CATEGORIES:Events,Kids Camp,Special Menu,Zehnder's Bakery,Zehnder's of Frankenmuth,Zehnder's Splash Village
ATTACH;FMTTYPE=image/jpeg:https://ticketing.zehnders.com/wp-content/uploads/2025/04/kids-camp-2025.jpg
GEO:43.3270953;-83.7427951
X-APPLE-STRUCTURED-LOCATION;VALUE=URI;X-ADDRESS=Zehnder’s of Frankenmuth 730 S. Main Street Frankenmuth MI 48734 United States;X-APPLE-RADIUS=500;X-TITLE=730 S. Main Street:geo:-83.7427951,43.3270953
END:VEVENT
END:VCALENDAR