BEGIN:VCALENDAR
VERSION:2.0
PRODID:-//Events - ECPv6.15.19//NONSGML v1.0//EN
CALSCALE:GREGORIAN
METHOD:PUBLISH
X-WR-CALNAME:Events
X-ORIGINAL-URL:https://ticketing.zehnders.com
X-WR-CALDESC:Events for Events
REFRESH-INTERVAL;VALUE=DURATION:PT1H
X-Robots-Tag:noindex
X-PUBLISHED-TTL:PT1H
BEGIN:VTIMEZONE
TZID:America/Detroit
BEGIN:DAYLIGHT
TZOFFSETFROM:-0500
TZOFFSETTO:-0400
TZNAME:EDT
DTSTART:20240310T070000
END:DAYLIGHT
BEGIN:STANDARD
TZOFFSETFROM:-0400
TZOFFSETTO:-0500
TZNAME:EST
DTSTART:20241103T060000
END:STANDARD
BEGIN:DAYLIGHT
TZOFFSETFROM:-0500
TZOFFSETTO:-0400
TZNAME:EDT
DTSTART:20250309T070000
END:DAYLIGHT
BEGIN:STANDARD
TZOFFSETFROM:-0400
TZOFFSETTO:-0500
TZNAME:EST
DTSTART:20251102T060000
END:STANDARD
BEGIN:DAYLIGHT
TZOFFSETFROM:-0500
TZOFFSETTO:-0400
TZNAME:EDT
DTSTART:20260308T070000
END:DAYLIGHT
BEGIN:STANDARD
TZOFFSETFROM:-0400
TZOFFSETTO:-0500
TZNAME:EST
DTSTART:20261101T060000
END:STANDARD
END:VTIMEZONE
BEGIN:VEVENT
DTSTART;TZID=America/Detroit:20251213T090000
DTEND;TZID=America/Detroit:20251213T090000
DTSTAMP:20260423T153924
CREATED:20251001T155140Z
LAST-MODIFIED:20251212T233113Z
UID:10000715-1765616400-1765616400@ticketing.zehnders.com
SUMMARY:Zehnder's Holiday Tea - December 13\, 2025
DESCRIPTION:Come and celebrate the holidays with friends and family at the Zehnder’s Holiday Breakfast Tea on Saturday\, December 13\, 2025 starting at 9 am. Enjoy a delicious breakfast with a variety of teas and take home your own holiday teacup and saucer. \nMenu Includes:\n• Cranberry Citrus Spritzer\n• Dark Chocolate Banana Muffin\n• Raspberry and Cream Danishes\n• New York Style Lox Bagel with Capers\, Hard Cooked Eggs\n• Potato Latkes with Fruit Compote – Crispy Potato Pancakes with Spiced Apple and Pear Compote topped with Creme Fraiche\n• Holiday Sourdough Strata – Fresh Sourdough Bread\, Egg Custard\, Pork Sausage\, Apples\, Gruyere Cheese\, Kale\, Sweet Bell Pepper\, Herb Cream Sauce\n• Roasted Yam and Yukon Gold Potato Hash with Smoked Bacon\, Purple Cauliflower\, Scallion\, Yellow Bell Pepper\, Crisp Microgreens\n• Fresh Fruit with Vanilla Orange Simple Syrup\n• Apple Pear and Cranberry Dump Cake – Fresh Apples\, Pears and Cranberries combine in an irresistible cake and cobbler fusion. \nCost is $70 per person\, tax and tip included. Reservations required\, book online below or call (989) 652-0450. 
URL:https://ticketing.zehnders.com/event/zehnders-holiday-tea-december-13-2025/
LOCATION:Zehnder’s of Frankenmuth\, 730 S. Main Street\, Frankenmuth\, MI\, 48734\, United States
CATEGORIES:Events,Holiday,Special Menu,Zehnder's Bakery,Zehnder's of Frankenmuth
ATTACH;FMTTYPE=image/jpeg:https://ticketing.zehnders.com/wp-content/uploads/2022/08/Holiday-Tea.jpg
GEO:43.3270953;-83.7427951
X-APPLE-STRUCTURED-LOCATION;VALUE=URI;X-ADDRESS=Zehnder’s of Frankenmuth 730 S. Main Street Frankenmuth MI 48734 United States;X-APPLE-RADIUS=500;X-TITLE=730 S. Main Street:geo:-83.7427951,43.3270953
END:VEVENT
BEGIN:VEVENT
DTSTART;VALUE=DATE:20251104
DTEND;VALUE=DATE:20251107
DTSTAMP:20260423T153924
CREATED:20250918T140343Z
LAST-MODIFIED:20251029T192848Z
UID:10000700-1762214400-1762473599@ticketing.zehnders.com
SUMMARY:Zehnder's 2025 Holiday How To Classes - November 4-6\, 2025
DESCRIPTION:As the festive season approaches\, Zehnder’s opens its doors to a world of holiday magic with our popular ‘Holiday How To’ classes. Unravel the mystique behind crafting delectable baked treats and step-by-step guidance in constructing your very own gingerbread house masterpiece. Let the spirit of the holidays inspire your culinary endeavors as we blend tradition with hands-on learning. Whether you’re a seasoned baker or a festive enthusiast\, join us for one or more of our upcoming Holiday How To Classes and celebrate the joy of creation this holiday season at Zehnder’s. \nChocolate Peppermint Macarons\n📅 Tuesday\, Nov. 4th from 9:00-11:00 am\, Wednesday\, Nov. 5th from 3-5:00 pm or Thursday\, Nov. 6th from 9-11:00 am\n💳 Cost $65 per person\, Class Limit 10\n📍 Zehnder’s Restaurant\, Garden Room \nStep into a winter wonderland of baking with this hands-on Chocolate Peppermint Macaron class! Learn the art of creating delicate\, bakery-worthy French macarons with a festive twist – crisp shells filled with a luscious peppermint-chocolate ganache. Whether you’re a beginner or a macaron enthusiast\, you’ll master essential techniques like whipping the perfect meringue\, folding the batter just right\, and achieving that signature macaron “feet”. You will take home 2 dozen macarons and a 4 qt. mixing bowl. \n  \nRoasted Brussel Sprouts\, Bacon & Gruyere Cheese Quiche with Caramel Apple Mimosa\n📅 Tuesday\, Nov. 4th from 1-2:30 pm\, Wednesday\, Nov. 5th from 7-8:30 pm or Thursday\, Nov. 6th from 1-2:30 pm\n💳 Cost $55 per person\, Class Limit 15\n📍 Zehnder’s Restaurant\, Keeping Room \nElevate your brunch game with this cozy flavor packed culinary experience! You will learn how to make a quiche with a rich\, buttery crust filled with smoky bacon\, roasted brussel sprouts\, Gruyere cheese and creamy egg custard. While your quiche bakes to golden perfection\, you’ll sip on a caramel apple mimosa (a sparkling twist to a fall favorite)\, complete with apple cider\, bubbly and a drizzle of caramel. You will also receive a 9-inch pie plate to take home. \n  \n  \nPuff Pastry Donuts & Apple Puffs\n📅 Tuesday\, Nov. 4th from 1-2:30 pm\, Wednesday\, Nov. 5th from 6-7:30 pm or Thursday\, Nov. 6th from 12-1:30 pm\n💳 Cost $60 per person\, Class Limit 18\n📍 Zehnder’s Restaurant\, Townhall Dining Room \nIn this hands-on class\, you’ll learn how to make irresistible puff pastry apple donuts. A delicious twist on a classic fall treat! Each donut starts with a fresh apple ring\, wrapped in buttery puff pastry\, baked until golden and finished with a warm cinnamon sugar coating. Then you will learn how to create bakery-worthy apple puffs with a cozy twist! You will make elegant puff pastry pockets filled with spiced apples and a rich cinnamon cream cheese filling. They will be baked to golden\, flaky perfection. You will leave with 4 each. \n  \nNo-Bake Peppermint Bark Pie\n📅 Tuesday\, Nov. 4th from 10:30 am-12:00 pm\, Wednesday\, Nov. 5th from 3-4:30 pm or Thursday\, Nov. 6th from 9:30-11:00 am\n💳 Cost $50 per person\, Class Limit 18\n📍 Zehnder’s Restaurant\, Townhall Dining Room \nLearn how to make a festive\, no-bake peppermint cream pie that’s as refreshing as it is indulgent! You’ll create a fluffy peppermint filling using whipped cream and just the right touch of mint\, nestled in a chocolate cookie crust and topped with beautiful\, whipped cream swirls and crushed peppermint. Perfect for winter gatherings or holiday parties. \n  \nGingerbread House\n📅 Wednesday\, Nov. 5th from 7:00-8:30 pm\n💳 Cost $50 per person\, Class Limit 20\n📍 Zehnder’s Restaurant\, Townhall Dining Room \nCreate your own 15-inch tall Gingerbread House. Our cake decorator will guide you step-by-step through the process of decorating your own unique house. All supplies included. \n  \nPull-Apart Reindeer Cake\n📅 Tuesday\, Nov. 4th from 9-10:30 am or Thursday\, Nov. 6th from 11:30 am-1:00 pm\n💳 Cost $55 per person\, Class Limit 18\n📍 Zehnder’s Restaurant\, Townhall Dining Room \nGet into the holiday spirit with this cheerful and creative cupcake decorating class! You’ll decorate a festive pull-apart reindeer cake made entirely from cupcakes. We’ll guide you through arranging cupcakes into a reindeer face\, then show you how to frost them seamlessly and add charming features like antlers\, eyes\, and Rudolph’s bright red nose. You will take home approximately 18 cupcakes. \n  \nQuick Pickling & Fermentation of Vegetables\n📅 Tuesday\, Nov. 4th from 10:00 am-11:30 am\, Wednesday\, Nov. 5th from 4-5:30 pm or Thursday\, Nov. 6th from 10-11:30 am\n💳 Cost $65 per person\, Class Limit 15\n📍 Zehnder’s Restaurant\, Keeping Room \nJoin Chef Lance Buchinger\, Certified Sou Chef and Chef de Cuisine\, for a hands-on culinary experience celebrating the season’s freshest produce. You’ll learn the art of quick pickling and fermentation – two simple and satisfying ways to preserve vegetables at home. Learn safe techniques\, flavor combinations and tips for enjoying your creations at home. Hands-on\, beginner friendly and fun for all skill levels. Leave with 3 jars of pickled and fermented vegetables\, along with the confidence to make more at home. \nReservations required. Book online below or call (989) 652-0450 to book or for more information. \n  \n  \n 
URL:https://ticketing.zehnders.com/event/zehnders-2025-holiday-how-to-classes-november-4-6-2025/
LOCATION:Zehnder’s of Frankenmuth\, 730 S. Main Street\, Frankenmuth\, MI\, 48734\, United States
CATEGORIES:Classes,Events,Holiday How To Classes,Zehnder's Bakery,Zehnder's of Frankenmuth
ATTACH;FMTTYPE=image/jpeg:https://ticketing.zehnders.com/wp-content/uploads/2025/09/holiday-how-to-classes.jpg
GEO:43.3270953;-83.7427951
X-APPLE-STRUCTURED-LOCATION;VALUE=URI;X-ADDRESS=Zehnder’s of Frankenmuth 730 S. Main Street Frankenmuth MI 48734 United States;X-APPLE-RADIUS=500;X-TITLE=730 S. Main Street:geo:-83.7427951,43.3270953
END:VEVENT
BEGIN:VEVENT
DTSTART;TZID=America/Detroit:20251021T180000
DTEND;TZID=America/Detroit:20251021T193000
DTSTAMP:20260423T153924
CREATED:20250909T175026Z
LAST-MODIFIED:20251013T151720Z
UID:10000699-1761069600-1761075000@ticketing.zehnders.com
SUMMARY:Apple Raisin Bread Fall Bakery Class - October 21\, 2025
DESCRIPTION:In this class\, you’ll learn how to make a soft\, lightly sweetened yeast bread studded with juicy raisins and apples finished with a sweet glaze on top. Perfect for breakfast\, snacking or gifting; this apple raisin bread brings together warm spices\, tender fruit\, and a golden crust for a comforting homemade loaf. \n📅 October 21\, 2025 from 6:00-7:30 pm\n💳 Cost $50 per person\, Class Limit 18\n📍 Zehnder’s Restaurant\, Townhall Dining Room\n \nReservations required. Book online below or call (989) 652-0450 to book or for more information.
URL:https://ticketing.zehnders.com/event/apple-raisin-bread-fall-bakery-class-october-21-2025/
LOCATION:Zehnder’s of Frankenmuth\, 730 S. Main Street\, Frankenmuth\, MI\, 48734\, United States
CATEGORIES:Classes,Events,Fall Classes,Fall Events,Zehnder's Bakery,Zehnder's of Frankenmuth
ATTACH;FMTTYPE=image/jpeg:https://ticketing.zehnders.com/wp-content/uploads/2025/09/Apple-Raisin-1-copy.jpg
GEO:43.3270953;-83.7427951
X-APPLE-STRUCTURED-LOCATION;VALUE=URI;X-ADDRESS=Zehnder’s of Frankenmuth 730 S. Main Street Frankenmuth MI 48734 United States;X-APPLE-RADIUS=500;X-TITLE=730 S. Main Street:geo:-83.7427951,43.3270953
END:VEVENT
BEGIN:VEVENT
DTSTART;TZID=America/Detroit:20251014T180000
DTEND;TZID=America/Detroit:20251014T193000
DTSTAMP:20260423T153924
CREATED:20250909T173007Z
LAST-MODIFIED:20250910T195211Z
UID:10000698-1760464800-1760470200@ticketing.zehnders.com
SUMMARY:S'mores Pie Fall Bakery Class - October 14\, 2025
DESCRIPTION:Bring the cozy campfire vibes indoors with this indulgent and fun baking class! Learn how to make a gooey\, chocolatey\, S’mores pie that combines all the classic flavors you love – graham cracker crust\, rich melted chocolate and perfectly toasted marshmallows – in one irresistible dessert. \n📅 October 14\, 2025 from 6:00-7:30 pm\n💳 Cost $50 per person\, Class Limit 18\n📍 Zehnder’s Restaurant\, Townhall Dining Room\n \nReservations required. Book online below or call (989) 652-0450 to book or for more information.
URL:https://ticketing.zehnders.com/event/smores-pie-fall-bakery-class-october-14-2025/
LOCATION:Zehnder’s of Frankenmuth\, 730 S. Main Street\, Frankenmuth\, MI\, 48734\, United States
CATEGORIES:Classes,Events,Fall Classes,Fall Events,Zehnder's Bakery,Zehnder's of Frankenmuth
ATTACH;FMTTYPE=image/jpeg:https://ticketing.zehnders.com/wp-content/uploads/2025/09/smorespie-copy.jpg
GEO:43.3270953;-83.7427951
X-APPLE-STRUCTURED-LOCATION;VALUE=URI;X-ADDRESS=Zehnder’s of Frankenmuth 730 S. Main Street Frankenmuth MI 48734 United States;X-APPLE-RADIUS=500;X-TITLE=730 S. Main Street:geo:-83.7427951,43.3270953
END:VEVENT
BEGIN:VEVENT
DTSTART;TZID=America/Detroit:20251007T180000
DTEND;TZID=America/Detroit:20251007T193000
DTSTAMP:20260423T153924
CREATED:20250909T171800Z
LAST-MODIFIED:20250910T195308Z
UID:10000697-1759860000-1759865400@ticketing.zehnders.com
SUMMARY:Apple Walnut Butterhorns - October 7\, 2025
DESCRIPTION:In this class\, you’ll learn how to make tender\, buttery butterhorn pastries filled with a sweet apple and walnut filling. Learn how to shape and bake these crescent-style treats and add finishing touches like a light glaze or powdered sugar. You’ll get step-by-step guidance to create pastries that are perfect for cozy mornings or holiday gatherings. You will make a dozen to take home and enjoy. \n📅 October 7\, 2025 from 6:00-7:30 pm\n💳 Cost $50 per person\, Class Limit 18\n📍 Zehnder’s Restaurant\, Townhall Dining Room\n \nReservations required. Book online below or call (989) 652-0450 to book or for more information.
URL:https://ticketing.zehnders.com/event/apple-walnut-butterhorns-october-7-2025/
LOCATION:Zehnder’s of Frankenmuth\, 730 S. Main Street\, Frankenmuth\, MI\, 48734\, United States
CATEGORIES:Classes,Events,Fall Classes,Fall Events,Zehnder's Bakery,Zehnder's of Frankenmuth
ATTACH;FMTTYPE=image/jpeg:https://ticketing.zehnders.com/wp-content/uploads/2025/09/Butterhorns-copy.jpg
GEO:43.3270953;-83.7427951
X-APPLE-STRUCTURED-LOCATION;VALUE=URI;X-ADDRESS=Zehnder’s of Frankenmuth 730 S. Main Street Frankenmuth MI 48734 United States;X-APPLE-RADIUS=500;X-TITLE=730 S. Main Street:geo:-83.7427951,43.3270953
END:VEVENT
BEGIN:VEVENT
DTSTART;TZID=America/Detroit:20251004T093000
DTEND;TZID=America/Detroit:20251004T110000
DTSTAMP:20260423T153924
CREATED:20250909T170650Z
LAST-MODIFIED:20250910T195415Z
UID:10000696-1759570200-1759575600@ticketing.zehnders.com
SUMMARY:Kids Halloween Cookies Class - October 4\, 2025
DESCRIPTION:Get ready for a spook-tacular time! In this fun and festive class\, kids will learn how to decorate Halloween themed cookies like little pros. Each child will get a set of pre-baked cookies and all the icing\, sprinkles and spooky toppings they need to bring their treats to life! You’ll get 12 cookies to take home. \n📅 October 4\, 2025 from 9:30-11:00 am\n💳 Cost $45 per person\, Class Limit 18\n📍 Zehnder’s Restaurant\, Townhall Dining Room\n \nFor children ages 9-12\, includes a half day waterpark pass. Reservations required. Book online below or call (989) 652-0450 to book or for more information.
URL:https://ticketing.zehnders.com/event/kids-halloween-cookies-class-october-4-2025/
LOCATION:Zehnder’s of Frankenmuth\, 730 S. Main Street\, Frankenmuth\, MI\, 48734\, United States
CATEGORIES:Classes,Events,Fall Classes,Fall Events,Zehnder's Bakery,Zehnder's of Frankenmuth
ATTACH;FMTTYPE=image/jpeg:https://ticketing.zehnders.com/wp-content/uploads/2025/09/Halloween-Cookies-copy.jpg
GEO:43.3270953;-83.7427951
X-APPLE-STRUCTURED-LOCATION;VALUE=URI;X-ADDRESS=Zehnder’s of Frankenmuth 730 S. Main Street Frankenmuth MI 48734 United States;X-APPLE-RADIUS=500;X-TITLE=730 S. Main Street:geo:-83.7427951,43.3270953
END:VEVENT
BEGIN:VEVENT
DTSTART;TZID=America/Detroit:20250930T180000
DTEND;TZID=America/Detroit:20250930T193000
DTSTAMP:20260423T153924
CREATED:20250909T155922Z
LAST-MODIFIED:20250929T130958Z
UID:10000695-1759255200-1759260600@ticketing.zehnders.com
SUMMARY:Apple\, Caramelized Onion & Bacon Pizza - September 30\, 2025
DESCRIPTION:Sweet\, savory and irresistibly delicious – learn how to make a gourmet-style pizza that’s bursting with fall flavor! In this hands-on class\, you’ll craft a scratch-made pizza topped with crisp apples\, golden caramelized onions\, smoky bacon and a blend of cheeses that bring it all together. \n📅 September 30\, 2025 from 6:00-7:30 pm\n💳 Cost $55 per person\, Class Limit 15\n📍 Zehnder’s Restaurant\, Townhall Dining Room\n \nReservations required. Book online below or call (989) 652-0450 to book or for more information.
URL:https://ticketing.zehnders.com/event/apple-caramelized-onion-bacon-pizza-september-30-2025/
LOCATION:Zehnder’s of Frankenmuth\, 730 S. Main Street\, Frankenmuth\, MI\, 48734\, United States
CATEGORIES:Classes,Events,Fall Classes,Fall Events,Zehnder's Bakery,Zehnder's of Frankenmuth
ATTACH;FMTTYPE=image/jpeg:https://ticketing.zehnders.com/wp-content/uploads/2025/09/Pizza-copy.jpg
GEO:43.3270953;-83.7427951
X-APPLE-STRUCTURED-LOCATION;VALUE=URI;X-ADDRESS=Zehnder’s of Frankenmuth 730 S. Main Street Frankenmuth MI 48734 United States;X-APPLE-RADIUS=500;X-TITLE=730 S. Main Street:geo:-83.7427951,43.3270953
END:VEVENT
BEGIN:VEVENT
DTSTART;VALUE=DATE:20250806
DTEND;VALUE=DATE:20250807
DTSTAMP:20260423T153924
CREATED:20250501T154022Z
LAST-MODIFIED:20250502T144128Z
UID:10000679-1754438400-1754524799@ticketing.zehnders.com
SUMMARY:Zehnder's One Day Kids Camp - August 6\, 2025
DESCRIPTION:Looking for a great Kid’s Summer Camp program? Are your children always helping in the kitchen\, asking to bake cookies or how to cook? Then Zehnder’s “Culinary Skills with a Splash” Day Camp is perfect for your child! \nWhat Will Your Child Experience?\nThe days begins with our professional bakers teaching your children how to make fresh baked goods from scratch. They may even bring some goodies home to share.\nNext\, they meet our Chefs who give hands-on instructions on preparing their lunch from start to finish. Before and during lunch\, campers will be taught some basic dining etiquette and table manners. \nAfter lunch\, there is craft time and campers will participate in outdoor activities. The day will conclude with time to play at Zehnder’s Splash Village Hotel and Waterpark. \nDaily Activities\n• Bakery – Paint by Number Cookies & Garlic Toast\n• Kitchen – Help Prepare Lunch: Zehnder’s Fried Chicken\, Corn on the Cob\, Potato Dinner Rolls\, Mashed Potatoes\, Ice Cream Sundaes & Homemade Butter\n• Craft Time – Make a unique craft to take home\n• Outdoor Activities\n• Splash Village – Supervised Free Time in the Waterpark and Arcade \nCamp Fee Includes\n• Camp T-Shirt\n• Chef’s Hat\n• Camp Photo\n• All Supplies and Ingredients\n• Certificate of Participation\n• Recipe Book\n• Staff Supervision \nFor boys and girls ages 9-12. Reservations required. Cost is $100 per person. Registration is limited to 24 campers per session\, minimum 15 required. Registration and payment due by Monday\, July 14\, 2025. Book online below or call (989) 652-0450. Click here to download a flyer.
URL:https://ticketing.zehnders.com/event/zehnders-one-day-kids-camp-august-6-2025/
LOCATION:Zehnder’s of Frankenmuth\, 730 S. Main Street\, Frankenmuth\, MI\, 48734\, United States
CATEGORIES:Events,Kids Camp,Special Menu,Zehnder's Bakery,Zehnder's of Frankenmuth,Zehnder's Splash Village
ATTACH;FMTTYPE=image/jpeg:https://ticketing.zehnders.com/wp-content/uploads/2025/04/Kids-Camp-2025-3.jpg
GEO:43.3270953;-83.7427951
X-APPLE-STRUCTURED-LOCATION;VALUE=URI;X-ADDRESS=Zehnder’s of Frankenmuth 730 S. Main Street Frankenmuth MI 48734 United States;X-APPLE-RADIUS=500;X-TITLE=730 S. Main Street:geo:-83.7427951,43.3270953
END:VEVENT
BEGIN:VEVENT
DTSTART;VALUE=DATE:20250708
DTEND;VALUE=DATE:20250711
DTSTAMP:20260423T153924
CREATED:20250501T154022Z
LAST-MODIFIED:20250527T144246Z
UID:10000678-1751932800-1752191999@ticketing.zehnders.com
SUMMARY:Zehnder's Kids Camp - July 8-11\, 2025
DESCRIPTION:Looking for a great Kid’s Summer Camp program? Are your children always helping in the kitchen\, asking to bake cookies or how to cook? Then Zehnder’s “Culinary Skills with a Splash” Day Camp is perfect for your child! \nWhat Will Your Child Experience?\nThe days begins with our professional bakers teaching your children how to make fresh baked goods from scratch. They may even bring some goodies home to share.\nNext\, they meet our Chefs who give hands-on instructions on preparing their lunch from start to finish. Before and during lunch\, campers will be taught some basic dining etiquette and table manners each day. \nAfter lunch\, there is craft time and campers will participate in outdoor activities. Each day will conclude with time to play at Zehnder’s Splash Village Hotel and Waterpark. \nDaily Activities\nDay One\n• Tour of Zehnder’s Restaurant\n• Bakery – Garlic Knots & Paint by Number Cookies\n• Kitchen – Pizza Pockets & Fruit Sushi\n• Craft Time\n• Outdoor Activities\n• Splash Village – Outdoor Pool and Waterpark Fun \nDay Two\n• Bakery – Hamburger Whoopie Pies\n• Kitchen/Lunch – Hamburger\, Fries & Homemade Applesauce\n• Craft Time\n• Outdoor Activities\n• Splash Village – Outdoor Pool and Waterpark Fun \nDay Three\n• Bakery – Homemade Pop Tarts\n• Kitchen – Zehnder’s Fried Chicken\, Corn on the Cob\, Potato Dinner Rolls\, Mashed Potatoes\, Ice Cream Sundaes & Homemade Butter\n• Craft Time\n• Splash Village – Outdoor Pool and Waterpark Fun \nCamp Fee Includes\n• Camp T-Shirt\n• Chef’s Hat\n• Camp Photo\n• All Supplies and Ingredients\n• Certificate of Participation\n• Recipe Book\n• Staff Supervision \nFor boys and girls ages 9-12. Reservations required. Cost is $295 per person for all three days. Registration is limited to 24 campers per session\, minimum 15 required. Registration and payment due by Monday\, May 26\, 2025. Book online below or call (989) 652-0450. Click here to download a flyer.
URL:https://ticketing.zehnders.com/event/zehnders-kids-camp-july-9-11-2025/
LOCATION:Zehnder’s of Frankenmuth\, 730 S. Main Street\, Frankenmuth\, MI\, 48734\, United States
CATEGORIES:Events,Kids Camp,Special Menu,Zehnder's Bakery,Zehnder's of Frankenmuth,Zehnder's Splash Village
ATTACH;FMTTYPE=image/jpeg:https://ticketing.zehnders.com/wp-content/uploads/2025/04/Kids-Camp-2025-2.jpg
GEO:43.3270953;-83.7427951
X-APPLE-STRUCTURED-LOCATION;VALUE=URI;X-ADDRESS=Zehnder’s of Frankenmuth 730 S. Main Street Frankenmuth MI 48734 United States;X-APPLE-RADIUS=500;X-TITLE=730 S. Main Street:geo:-83.7427951,43.3270953
END:VEVENT
BEGIN:VEVENT
DTSTART;VALUE=DATE:20250623
DTEND;VALUE=DATE:20250626
DTSTAMP:20260423T153924
CREATED:20250501T154023Z
LAST-MODIFIED:20250625T171906Z
UID:10000677-1750636800-1750895999@ticketing.zehnders.com
SUMMARY:Zehnder's Kids Camp - June 23-25\, 2025
DESCRIPTION:Looking for a great Kid’s Summer Camp program? Are your children always helping in the kitchen\, asking to bake cookies or how to cook? Then Zehnder’s “Culinary Skills with a Splash” Day Camp is perfect for your child! \nWhat Will Your Child Experience?\nThe days begins with our professional bakers teaching your children how to make fresh baked goods from scratch. They may even bring some goodies home to share.\nNext\, they meet our Chefs who give hands-on instructions on preparing their lunch from start to finish. Before and during lunch\, campers will be taught some basic dining etiquette and table manners each day. \nAfter lunch\, there is craft time and campers will participate in outdoor activities. Each day will conclude with time to play at Zehnder’s Splash Village Hotel and Waterpark. \nDaily Activities\nDay One\n• Tour of Zehnder’s Restaurant\n• Bakery – Garlic Knots & Paint by Number Cookies\n• Kitchen – Pizza Pockets & Fruit Sushi\n• Craft Time\n• Outdoor Activities\n• Splash Village – Outdoor Pool and Waterpark Fun \nDay Two\n• Bakery – Hamburger Whoopie Pies\n• Kitchen/Lunch – Hamburger\, Fries & Homemade Applesauce\n• Craft Time\n• Outdoor Activities\n• Splash Village – Outdoor Pool and Waterpark Fun \nDay Three\n• Bakery – Homemade Pop Tarts\n• Kitchen – Zehnder’s Fried Chicken\, Corn on the Cob\, Potato Dinner Rolls\, Mashed Potatoes\, Ice Cream Sundaes & Homemade Butter\n• Craft Time\n• Splash Village – Outdoor Pool and Waterpark Fun \nCamp Fee Includes\n• Camp T-Shirt\n• Chef’s Hat\n• Camp Photo\n• All Supplies and Ingredients\n• Certificate of Participation\n• Recipe Book\n• Staff Supervision \nFor boys and girls ages 9-12. Reservations required. Cost is $295 per person for all three days. Registration is limited to 24 campers per session\, minimum 15 required. Registration and payment due by Monday\, May 26\, 2025. Book online below or call (989) 652-0450. Click here to download a flyer.
URL:https://ticketing.zehnders.com/event/zehnders-kids-camp-june-18-20-2025/
LOCATION:Zehnder’s of Frankenmuth\, 730 S. Main Street\, Frankenmuth\, MI\, 48734\, United States
CATEGORIES:Events,Kids Camp,Special Menu,Zehnder's Bakery,Zehnder's of Frankenmuth,Zehnder's Splash Village
ATTACH;FMTTYPE=image/jpeg:https://ticketing.zehnders.com/wp-content/uploads/2025/04/kids-camp-2025.jpg
GEO:43.3270953;-83.7427951
X-APPLE-STRUCTURED-LOCATION;VALUE=URI;X-ADDRESS=Zehnder’s of Frankenmuth 730 S. Main Street Frankenmuth MI 48734 United States;X-APPLE-RADIUS=500;X-TITLE=730 S. Main Street:geo:-83.7427951,43.3270953
END:VEVENT
END:VCALENDAR