BEGIN:VCALENDAR
VERSION:2.0
PRODID:-//Events - ECPv6.15.19//NONSGML v1.0//EN
CALSCALE:GREGORIAN
METHOD:PUBLISH
X-ORIGINAL-URL:https://ticketing.zehnders.com
X-WR-CALDESC:Events for Events
REFRESH-INTERVAL;VALUE=DURATION:PT1H
X-Robots-Tag:noindex
X-PUBLISHED-TTL:PT1H
BEGIN:VTIMEZONE
TZID:America/Detroit
BEGIN:DAYLIGHT
TZOFFSETFROM:-0500
TZOFFSETTO:-0400
TZNAME:EDT
DTSTART:20250309T070000
END:DAYLIGHT
BEGIN:STANDARD
TZOFFSETFROM:-0400
TZOFFSETTO:-0500
TZNAME:EST
DTSTART:20251102T060000
END:STANDARD
BEGIN:DAYLIGHT
TZOFFSETFROM:-0500
TZOFFSETTO:-0400
TZNAME:EDT
DTSTART:20260308T070000
END:DAYLIGHT
BEGIN:STANDARD
TZOFFSETFROM:-0400
TZOFFSETTO:-0500
TZNAME:EST
DTSTART:20261101T060000
END:STANDARD
BEGIN:DAYLIGHT
TZOFFSETFROM:-0500
TZOFFSETTO:-0400
TZNAME:EDT
DTSTART:20270314T070000
END:DAYLIGHT
BEGIN:STANDARD
TZOFFSETFROM:-0400
TZOFFSETTO:-0500
TZNAME:EST
DTSTART:20271107T060000
END:STANDARD
END:VTIMEZONE
BEGIN:VEVENT
DTSTART;VALUE=DATE:20260602
DTEND;VALUE=DATE:20260604
DTSTAMP:20260423T095024
CREATED:20260227T200301Z
LAST-MODIFIED:20260414T173607Z
UID:10000755-1780358400-1780531199@ticketing.zehnders.com
SUMMARY:Suzann Pettersen Amateur Qualifier Presented by Frankenmuth Insurance - June 2-3\, 2026
DESCRIPTION:Register now for the Suzann Pettersen Amateur Qualifier June 2-3\, 2026 at The Fortress Golf Course located in beautiful Frankenmuth\, Michigan. The Suzann Pettersen Amateur Qualifier is the official amateur qualifier for the Dow Championship. This single-entry stroke play event includes 36 holes played over two days. Field size will consist of 48 maximum contestants with the winner receiving an exemption into the Dow Championship at the Midland Country Club on June 8-14\, 2026. The winner of the qualifier will be able to pick their own playing partner and team up for the Dow Championship\, the only team event on the LPGA tour. \nClick here to view and download all rules and guidelines. \nEntry Fee: $175 per Player. Fee includes Monday practice\, competitive rounds\, welcome reception for players\, breakfast and lunch on both days of competition\, range balls pre-tournament rounds and a tournament registration gift bag. \nRegistration: Entry form and fee must be completed and paid online below. Registration begins Wednesday\, March 2nd and ends Monday\, May 25th\,  2026. \nAbout the Dow Championship\nThe Dow Championship was introduced to the LPGA Tour schedule in 2019. 144 of the world’s best golfers will tee off again at the Midland Country Club in Michigan\, June 8-14\, 2026. The Dow Championship is played with 72 two-woman teams competing in a 72-hole stroke play format with alternating rounds of foursomes (alternate shot) and four-ball (best ball).\nThe tournament was founded with the vision of building community and accelerating the efforts of the Great Lakes Bay Region and Dow’s strategy by building a world-class and unique LPGA Tour event that positively impacts people’s lives. \nAbout Suzann Pettersen\nIn her 19-year professional career\, Suzann “Tutta” Pettersen won 15 times on the LPGA Tour and 7 times on the Ladies European Tour including two major championships: the 2007 LPGA Championship and the 2013 Evian Championship. She also had runner-up finishes in the U.S. Women’s Open\, the Women’s British Open and the ANA Inspiration. \nSuzann’s consistency was evidenced by the 419 weeks she appeared in the top 10 in the World Rankings and the 146 top-10 finishes she earned while playing on the LPGA Tour. She is perhaps most known for her nine Solheim Cup appearances where she was one of Europe’s leading point earners. Her career was capped at the 2019 Solheim Cup where she clinched the winning point for Europe and immediately retired from the professional game. \nTerms and Conditions\nBy completing the registration process\, we hereby make formal Application for Entry as participants in the Suzann Pettersen Amateur Qualifier Tournament to be conducted June 2-3\, 2026. In consideration of the acceptance of this application\, and as further condition to our participation in this LPGA Qualifier\, we further agree to abide by the Tournament Rules\, Conditions of Competition\, Local Rules\, and Dow Championship regulations and requirements pertaining to the qualifier. It is our further understanding that my individual entry fee of $175 shall be refunded in the event that this application is not accepted. We further understand our entry fee shall not be refunded after the entry deadline.
URL:https://ticketing.zehnders.com/event/qualifier/
LOCATION:The Fortress Golf Course\, 950 Flint St\, Frankenmuth\, MI\, 48734\, United States
CATEGORIES:Events,The Fortress Golf Course
ATTACH;FMTTYPE=image/jpeg:https://ticketing.zehnders.com/wp-content/uploads/2025/02/Suzann-Pettersen-Qualifier.jpg
GEO:43.32381;-83.74344
X-APPLE-STRUCTURED-LOCATION;VALUE=URI;X-ADDRESS=The Fortress Golf Course 950 Flint St Frankenmuth MI 48734 United States;X-APPLE-RADIUS=500;X-TITLE=950 Flint St:geo:-83.74344,43.32381
END:VEVENT
BEGIN:VEVENT
DTSTART;TZID=America/Detroit:20260710T170000
DTEND;TZID=America/Detroit:20260710T200000
DTSTAMP:20260423T095024
CREATED:20260303T202440Z
LAST-MODIFIED:20260303T203220Z
UID:10000757-1783702800-1783713600@ticketing.zehnders.com
SUMMARY:The Fortress Friday Night BBQ - July 10\, 2026
DESCRIPTION:Join us for a smokin’ good time with rotating BBQ themed menus on select Fridays at The Fortress Golf Course Pavilion. Great food\, good vibes\, and summer nights done right! The all-you-care-to-eat buffet is $26.95 per person on Friday\, July 10th\, July 17th\, July 24th and July 31st from 5-8 pm. Kid’s prices are available upon request. \nJuly 10th Menu Includes:\n• BBQ Pork Spareribs with Sweet Baby Ray’s\n• BBQ Grilled Chicken\n• Lightly Fried Walleye\n• Cowboy Style Baked Beans\n• Corn on the Cob\n• Redskin Potato Salad\n• Zehnder’s Creamy Cabbage Salad\n• Cornbread Muffins\n• Apple Strudel with Whipped Cream \nJuly 17th Menu Includes:\n• BBQ Pork Spareribs with Sweet Baby Ray’s\n• Southern Fried Chicken\n• Great Lakes Yellow Perch\n• Au Gratin Potatoes\n• Sauteed Green Beans with Red Peppers\n• Macaroni Salad\n• Zehnder’s Creamy Cabbage Salad\n• Cornbread Muffins\n• Blueberry Strudel with Whipped Cream \nJuly 24th Menu Includes:\n• BBQ Pork Spareribs with Sweet Baby Ray’s\n• BBQ Grilled Chicken\n• Lightly Fried Walleye\n• Cowboy Style Baked Beans\n• Corn on the Cob\n• Redskin Potato Salad\n• Zehnder’s Creamy Cabbage Salad\n• Cornbread Muffins\n• Apple Strudel with Whipped Cream \nJuly 31st Menu Includes:\n• BBQ Pork Spareribs with Sweet Baby Ray’s\n• Southern Fried Chicken\n• Great Lakes Yellow Perch\n• Au Gratin Potatoes\n• Sauteed Green Beans with Red Peppers\n• Macaroni Salad\n• Zehnder’s Creamy Cabbage Salad\n• Cornbread Muffins\n• Blueberry Strudel with Whipped Cream \nNo reservations required. Call (989) 652-0450 for details. \n  \n  \n 
URL:https://ticketing.zehnders.com/event/the-fortress-friday-night-bbq-july-10-2026/
LOCATION:The Fortress Golf Course Pavilion\, 950 Flint Street\, Frankenmuth\, MI\, 48734\, United States
CATEGORIES:Events,Special Menu,The Fortress BBQ,The Fortress Golf Course
ATTACH;FMTTYPE=image/jpeg:https://ticketing.zehnders.com/wp-content/uploads/2025/07/First-BBQ-Southern-Style-BBQ-copy.jpg
GEO:43.324379;-83.7488827
X-APPLE-STRUCTURED-LOCATION;VALUE=URI;X-ADDRESS=The Fortress Golf Course Pavilion 950 Flint Street Frankenmuth MI 48734 United States;X-APPLE-RADIUS=500;X-TITLE=950 Flint Street:geo:-83.7488827,43.324379
END:VEVENT
BEGIN:VEVENT
DTSTART;TZID=America/Detroit:20260717T170000
DTEND;TZID=America/Detroit:20260717T200000
DTSTAMP:20260423T095024
CREATED:20260303T202612Z
LAST-MODIFIED:20260303T203531Z
UID:10000758-1784307600-1784318400@ticketing.zehnders.com
SUMMARY:The Fortress Friday Night BBQ - July 17\, 2026
DESCRIPTION:Join us for a smokin’ good time with rotating BBQ themed menus on select Fridays at The Fortress Golf Course Pavilion. Great food\, good vibes\, and summer nights done right! The all-you-care-to-eat buffet is $26.95 per person on Friday\, July 17th\, July 24th and July 31st\, 2026 from 5-8 pm. Kid’s prices are available upon request. \nJuly 17th Menu Includes:\n• BBQ Pork Spareribs with Sweet Baby Ray’s\n• Southern Fried Chicken\n• Great Lakes Yellow Perch\n• Au Gratin Potatoes\n• Sauteed Green Beans with Red Peppers\n• Macaroni Salad\n• Zehnder’s Creamy Cabbage Salad\n• Cornbread Muffins\n• Blueberry Strudel with Whipped Cream \nJuly 24th Menu Includes:\n• BBQ Pork Spareribs with Sweet Baby Ray’s\n• BBQ Grilled Chicken\n• Lightly Fried Walleye\n• Cowboy Style Baked Beans\n• Corn on the Cob\n• Redskin Potato Salad\n• Zehnder’s Creamy Cabbage Salad\n• Cornbread Muffins\n• Apple Strudel with Whipped Cream \nJuly 31st Menu Includes:\n• BBQ Pork Spareribs with Sweet Baby Ray’s\n• Southern Fried Chicken\n• Great Lakes Yellow Perch\n• Au Gratin Potatoes\n• Sauteed Green Beans with Red Peppers\n• Macaroni Salad\n• Zehnder’s Creamy Cabbage Salad\n• Cornbread Muffins\n• Blueberry Strudel with Whipped Cream \nNo reservations required. Call (989) 652-0450 for details. \n  \n  \n 
URL:https://ticketing.zehnders.com/event/the-fortress-friday-night-bbq-july-17-2026/
LOCATION:The Fortress Golf Course Pavilion\, 950 Flint Street\, Frankenmuth\, MI\, 48734\, United States
CATEGORIES:Events,Special Menu,The Fortress BBQ,The Fortress Golf Course
ATTACH;FMTTYPE=image/jpeg:https://ticketing.zehnders.com/wp-content/uploads/2025/07/First-BBQ-Southern-Style-BBQ-copy.jpg
GEO:43.324379;-83.7488827
X-APPLE-STRUCTURED-LOCATION;VALUE=URI;X-ADDRESS=The Fortress Golf Course Pavilion 950 Flint Street Frankenmuth MI 48734 United States;X-APPLE-RADIUS=500;X-TITLE=950 Flint Street:geo:-83.7488827,43.324379
END:VEVENT
BEGIN:VEVENT
DTSTART;TZID=America/Detroit:20260724T170000
DTEND;TZID=America/Detroit:20260724T200000
DTSTAMP:20260423T095024
CREATED:20260303T202819Z
LAST-MODIFIED:20260303T203452Z
UID:10000759-1784912400-1784923200@ticketing.zehnders.com
SUMMARY:The Fortress Friday Night BBQ - July 24\, 2026
DESCRIPTION:Join us for a smokin’ good time with rotating BBQ themed menus on select Fridays at The Fortress Golf Course Pavilion. Great food\, good vibes\, and summer nights done right! The all-you-care-to-eat buffet is $26.95 per person on Friday\, July 24th and July 31st\, 2026 from 5-8 pm. Kid’s prices are available upon request. \nJuly 24th Menu Includes:\n• BBQ Pork Spareribs with Sweet Baby Ray’s\n• BBQ Grilled Chicken\n• Lightly Fried Walleye\n• Cowboy Style Baked Beans\n• Corn on the Cob\n• Redskin Potato Salad\n• Zehnder’s Creamy Cabbage Salad\n• Cornbread Muffins\n• Apple Strudel with Whipped Cream \nJuly 31st Menu Includes:\n• BBQ Pork Spareribs with Sweet Baby Ray’s\n• Southern Fried Chicken\n• Great Lakes Yellow Perch\n• Au Gratin Potatoes\n• Sauteed Green Beans with Red Peppers\n• Macaroni Salad\n• Zehnder’s Creamy Cabbage Salad\n• Cornbread Muffins\n• Blueberry Strudel with Whipped Cream \nNo reservations required. Call (989) 652-0450 for details. \n  \n  \n 
URL:https://ticketing.zehnders.com/event/the-fortress-friday-night-bbq-july-24-2026/
LOCATION:The Fortress Golf Course Pavilion\, 950 Flint Street\, Frankenmuth\, MI\, 48734\, United States
CATEGORIES:Events,Special Menu,The Fortress BBQ,The Fortress Golf Course
ATTACH;FMTTYPE=image/jpeg:https://ticketing.zehnders.com/wp-content/uploads/2025/07/First-BBQ-Southern-Style-BBQ-copy.jpg
GEO:43.324379;-83.7488827
X-APPLE-STRUCTURED-LOCATION;VALUE=URI;X-ADDRESS=The Fortress Golf Course Pavilion 950 Flint Street Frankenmuth MI 48734 United States;X-APPLE-RADIUS=500;X-TITLE=950 Flint Street:geo:-83.7488827,43.324379
END:VEVENT
BEGIN:VEVENT
DTSTART;TZID=America/Detroit:20260731T170000
DTEND;TZID=America/Detroit:20260731T200000
DTSTAMP:20260423T095024
CREATED:20260303T203022Z
LAST-MODIFIED:20260325T151511Z
UID:10000760-1785517200-1785528000@ticketing.zehnders.com
SUMMARY:The Fortress Friday Night BBQ - July 31\, 2026
DESCRIPTION:Join us for a smokin’ good time with rotating BBQ themed menus on select Fridays at The Fortress Golf Course Pavilion. Great food\, good vibes\, and summer nights done right! The all-you-care-to-eat buffet is $26.95 per person on Friday\, July 31\, 2026 from 5-8 pm. Kid’s prices are available upon request. \nJuly 31st Menu Includes:\n• BBQ Pork Spareribs with Sweet Baby Ray’s\n• Southern Fried Chicken\n• Great Lakes Yellow Perch\n• Au Gratin Potatoes\n• Sauteed Green Beans with Red Peppers\n• Macaroni Salad\n• Zehnder’s Creamy Cabbage Salad\n• Cornbread Muffins\n• Blueberry Strudel with Whipped Cream \nNo reservations required. Call (989) 652-0450 for details. \n  \n  \n 
URL:https://ticketing.zehnders.com/event/the-fortress-friday-night-bbq-july-31-2026/
LOCATION:Zehnder’s of Frankenmuth\, 730 S. Main Street\, Frankenmuth\, MI\, 48734\, United States
CATEGORIES:Events,Special Menu,The Fortress BBQ,The Fortress Golf Course
ATTACH;FMTTYPE=image/jpeg:https://ticketing.zehnders.com/wp-content/uploads/2025/07/First-BBQ-Southern-Style-BBQ-copy.jpg
GEO:43.3270953;-83.7427951
X-APPLE-STRUCTURED-LOCATION;VALUE=URI;X-ADDRESS=Zehnder’s of Frankenmuth 730 S. Main Street Frankenmuth MI 48734 United States;X-APPLE-RADIUS=500;X-TITLE=730 S. Main Street:geo:-83.7427951,43.3270953
END:VEVENT
END:VCALENDAR