BEGIN:VCALENDAR
VERSION:2.0
PRODID:-//Events - ECPv6.15.19//NONSGML v1.0//EN
CALSCALE:GREGORIAN
METHOD:PUBLISH
X-ORIGINAL-URL:https://ticketing.zehnders.com
X-WR-CALDESC:Events for Events
REFRESH-INTERVAL;VALUE=DURATION:PT1H
X-Robots-Tag:noindex
X-PUBLISHED-TTL:PT1H
BEGIN:VTIMEZONE
TZID:America/Detroit
BEGIN:DAYLIGHT
TZOFFSETFROM:-0500
TZOFFSETTO:-0400
TZNAME:EDT
DTSTART:20250309T070000
END:DAYLIGHT
BEGIN:STANDARD
TZOFFSETFROM:-0400
TZOFFSETTO:-0500
TZNAME:EST
DTSTART:20251102T060000
END:STANDARD
BEGIN:DAYLIGHT
TZOFFSETFROM:-0500
TZOFFSETTO:-0400
TZNAME:EDT
DTSTART:20260308T070000
END:DAYLIGHT
BEGIN:STANDARD
TZOFFSETFROM:-0400
TZOFFSETTO:-0500
TZNAME:EST
DTSTART:20261101T060000
END:STANDARD
BEGIN:DAYLIGHT
TZOFFSETFROM:-0500
TZOFFSETTO:-0400
TZNAME:EDT
DTSTART:20270314T070000
END:DAYLIGHT
BEGIN:STANDARD
TZOFFSETFROM:-0400
TZOFFSETTO:-0500
TZNAME:EST
DTSTART:20271107T060000
END:STANDARD
END:VTIMEZONE
BEGIN:VEVENT
DTSTART;VALUE=DATE:20260317
DTEND;VALUE=DATE:20260321
DTSTAMP:20260425T124457
CREATED:20250923T153144Z
LAST-MODIFIED:20260316T180421Z
UID:10000705-1773705600-1774051199@ticketing.zehnders.com
SUMMARY:1981 THE CONCERT Simon & Garfunkel Tribute Show - March 17-20\, 2026
DESCRIPTION:1981: THE CONCERT is a stunning recreation of Simon & Garfunkel’s Concert in Central Park. Simon & Garfunkel’s Concert in Central Park was one of the largest concerts in US history and remains one of the most beloved concerts of all time. Although it was attended by over 500\,000 people\, most of us didn’t have the opportunity to attend this iconic show. 1981: THE CONCERT recreates this awe inspiring concert with attention to every detail. This upbeat 90-minute show will take you back in time to Friday\, September 19\, 1981…that cool September night in New York City when Paul Simon and Art Garfunkel reunited for the concert of a lifetime. \nMrs. Robinson\, Homeward Bound\, Bridge Over Troubled Water\, The Boxer\, Scarborough Fair\, The Sound of Silence…these are just a few of the featured songs that have made Simon & Garfunkel one of the most successful artists of all time. 1981: THE CONCERT pays homage to these 2 American music icons and stays true to the beauty of their timeless songs. Complete with a full 9-piece back-up band and horn section\, the warm blending harmonies and crisp guitar work recreate the sound\, look and feel of this legendary duo in their most famous performance ever. \nLunch Shows – 12 noon\, $63 per person\nIncludes meal\, tax\, tip and entertainment. \nBook online below or call (989) 652-0450 for more information. \n 
URL:https://ticketing.zehnders.com/event/1981-the-concert-simon-garfunkel-tribute-show-march-17-20-2026/
LOCATION:Zehnder’s of Frankenmuth\, 730 S. Main Street\, Frankenmuth\, MI\, 48734\, United States
CATEGORIES:Events,Shows,Special Menu,Zehnder's of Frankenmuth
ATTACH;FMTTYPE=image/jpeg:https://ticketing.zehnders.com/wp-content/uploads/2023/08/Simon-and-Garfunkel.jpg
GEO:43.3270953;-83.7427951
X-APPLE-STRUCTURED-LOCATION;VALUE=URI;X-ADDRESS=Zehnder’s of Frankenmuth 730 S. Main Street Frankenmuth MI 48734 United States;X-APPLE-RADIUS=500;X-TITLE=730 S. Main Street:geo:-83.7427951,43.3270953
END:VEVENT
BEGIN:VEVENT
DTSTART;TZID=America/Detroit:20260320T150000
DTEND;TZID=America/Detroit:20260320T193000
DTSTAMP:20260425T124457
CREATED:20260227T142637Z
LAST-MODIFIED:20260302T160959Z
UID:10000752-1774018800-1774035000@ticketing.zehnders.com
SUMMARY:Zehnder's Friday Night Fish Fry - March 20\, 2026
DESCRIPTION:Join us every Friday evening now through Good Friday in Z-Chef’s Café (lower level of Zehnder’s) for our popular Friday Night Fish Fry — featuring fresh flavors\, hearty comfort foods\, and something new each week. \nEach menu showcases Great Lakes Yellow Perch\, along with a rotating selection of seafood favorites\, classic Zehnder’s chicken\, savory soups\, fresh sides\, and our popular Stir Fry Station. No two Fridays are exactly alike\, but every meal delivers the quality and abundance Zehnder’s is known for. \nEnjoy an all-you-care-to-eat dinner for: \n$29.95 per person\nChildren ages 6–11: $11.95\nAges 3–5: $6.95\nUnder 3: FREE\nBeverage is additional\, Rewards birthday dinner not valid towards buffet. \nMarch 20\, 2026\n• Featuring Great Lakes Yellow Perch\n• Breaded Jumbo Shrimp\n• Great Lakes Fried Walleye\n• Seafood Gumbo\n• Zehnder’s Baked Chicken\n• Yukon Gold Mashed Potatoes with Chicken Gravy\n• Maui Blend Vegetables\n• Buttered Noodles with Cracker Crumb Topping\n• Stir Fry Station\n• Cabbage Salad\n• Bakery Fresh Rolls\n• Assorted Desserts \nMarch 27\, 2026\n• Featuring Great Lakes Yellow Perch\n• Breaded Jumbo Shrimp\n• Baked Salmon with Citrus Glaze\n• New England Clam Chowder\n• Zehnder’s Herb Roasted Chicken\n• Redskin Mashed Potatoes with Chicken Gravy\n• Normandy Blend Vegetables\n• House-made Macaroni & Cheese\n• Stir Fry Station\n• Cabbage Salad\n• Bakery Fresh Rolls\n• Assorted Desserts \nApril 3\, 2026\n• Featuring Great Lakes Yellow Perch\n• Breaded Jumbo Shrimp\n• Beer Battered Cod\n• Shrimp Bisque\n• Zehnder’s Golden Fried Chicken\n• Garlic Mashed Potatoes with Chicken Gravy\n• Sautéed Green Beans with Red Peppers\n• Wild Rice with Broccoli Cheddar Sauce\n• Stir Fry Station\n• Cabbage Salad\n• Bakery Fresh Rolls\n• Assorted Desserts \nAll Menus Include our Seafood Stir Fry Station:\n• Shrimp\n• Scallops\n• Julienne Chicken Breasts\n• Angel Hair Pasta\n• Fettuccine\n• Broccoli\n• Carrots\n• Pea Pods\n• Sweet Peppers\n• Onions\n• Thai Chili\n• Alfredo Sauce\n• Teriyaki \n🍽️ Take It To-Go!\nPrefer to enjoy at home? Our Fish Fry is also available to-go for $26.95 per dinner\, which includes: \n• 5 Great Lakes Yellow Perch fillets or 5 Jumbo Shrimp\n• Soup of the day\n• Potato special\n• House-made cabbage salad\n• Bakery fresh dinner roll(Beverage additional) \nAvailable all day every Friday for dine-in or take-out. Order online here: https://www.zehndersrewards.com \nMake Friday nights a tradition with Zehnder’s — where Great Lakes flavor meets classic comfort. Questions? Please call (989) 652-0450. Click here to download a flyer.
URL:https://ticketing.zehnders.com/event/zehnders-friday-night-fish-fry-march-20-2026/
LOCATION:Zehnder’s of Frankenmuth\, 730 S. Main Street\, Frankenmuth\, MI\, 48734\, United States
CATEGORIES:Events,Fish Fry,Special Menu,Zehnder's of Frankenmuth
ATTACH;FMTTYPE=image/jpeg:https://ticketing.zehnders.com/wp-content/uploads/2024/01/fish-fry.jpg
GEO:43.3270953;-83.7427951
X-APPLE-STRUCTURED-LOCATION;VALUE=URI;X-ADDRESS=Zehnder’s of Frankenmuth 730 S. Main Street Frankenmuth MI 48734 United States;X-APPLE-RADIUS=500;X-TITLE=730 S. Main Street:geo:-83.7427951,43.3270953
END:VEVENT
END:VCALENDAR