BEGIN:VCALENDAR
VERSION:2.0
PRODID:-//Events - ECPv6.15.19//NONSGML v1.0//EN
CALSCALE:GREGORIAN
METHOD:PUBLISH
X-WR-CALNAME:Events
X-ORIGINAL-URL:https://ticketing.zehnders.com
X-WR-CALDESC:Events for Events
REFRESH-INTERVAL;VALUE=DURATION:PT1H
X-Robots-Tag:noindex
X-PUBLISHED-TTL:PT1H
BEGIN:VTIMEZONE
TZID:America/Detroit
BEGIN:DAYLIGHT
TZOFFSETFROM:-0500
TZOFFSETTO:-0400
TZNAME:EDT
DTSTART:20250309T070000
END:DAYLIGHT
BEGIN:STANDARD
TZOFFSETFROM:-0400
TZOFFSETTO:-0500
TZNAME:EST
DTSTART:20251102T060000
END:STANDARD
BEGIN:DAYLIGHT
TZOFFSETFROM:-0500
TZOFFSETTO:-0400
TZNAME:EDT
DTSTART:20260308T070000
END:DAYLIGHT
BEGIN:STANDARD
TZOFFSETFROM:-0400
TZOFFSETTO:-0500
TZNAME:EST
DTSTART:20261101T060000
END:STANDARD
BEGIN:DAYLIGHT
TZOFFSETFROM:-0500
TZOFFSETTO:-0400
TZNAME:EDT
DTSTART:20270314T070000
END:DAYLIGHT
BEGIN:STANDARD
TZOFFSETFROM:-0400
TZOFFSETTO:-0500
TZNAME:EST
DTSTART:20271107T060000
END:STANDARD
END:VTIMEZONE
BEGIN:VEVENT
DTSTART;VALUE=DATE:20260507
DTEND;VALUE=DATE:20260509
DTSTAMP:20260425T095946
CREATED:20250925T191540Z
LAST-MODIFIED:20260330T144444Z
UID:10000706-1778112000-1778284799@ticketing.zehnders.com
SUMMARY:Kat Mandu - A Tribute to Bob Seger - May 7 & 8\, 2026
DESCRIPTION:The members of Kat Mandu – a Bob Seger Tribute Band have been singing\, performing\, and playing in sync as if they’d been together their entire musical careers. Throughout the course of the band’s union\, they have won over the hearts of music lovers from all walks of life; performing at a variety of venues\, making loads of public appearances. \nLunch Shows – May 7 & 8\, 2026 at 12 noon – $63 per person\nDinner Show – May 7\, 2026 at 6 pm – $70 per person\nIncludes meal\, tax\, tip and entertainment \nReservations required. Book online below or call (989) 652-0450 for reservations or for more information.
URL:https://ticketing.zehnders.com/event/lookin-back-a-tribute-to-bob-seger-may-7-8-2026/
LOCATION:Zehnder’s of Frankenmuth\, 730 S. Main Street\, Frankenmuth\, MI\, 48734\, United States
CATEGORIES:Events,Shows,Special Menu,Zehnder's of Frankenmuth
ATTACH;FMTTYPE=image/jpeg:https://ticketing.zehnders.com/wp-content/uploads/2025/09/Katmandu-2025.jpg
GEO:43.3270953;-83.7427951
X-APPLE-STRUCTURED-LOCATION;VALUE=URI;X-ADDRESS=Zehnder’s of Frankenmuth 730 S. Main Street Frankenmuth MI 48734 United States;X-APPLE-RADIUS=500;X-TITLE=730 S. Main Street:geo:-83.7427951,43.3270953
END:VEVENT
BEGIN:VEVENT
DTSTART;TZID=America/Detroit:20260516T100000
DTEND;TZID=America/Detroit:20260516T113000
DTSTAMP:20260425T095946
CREATED:20260302T175743Z
LAST-MODIFIED:20260304T181256Z
UID:10000756-1778925600-1778931000@ticketing.zehnders.com
SUMMARY:Zehnder's Spring Tea - May 16\, 2026
DESCRIPTION:Celebrate the beauty of spring at Zehnder’s beloved Spring Tea on Saturday\, May 16\, 2026. Gather with friends and family for a charming morning filled with delightful flavors\, fragrant teas\, and meaningful conversation. \nGuests will enjoy a thoughtfully prepared brunch paired with a selection of delicious teas\, all served in the elegant setting of Zehnder’s Main Dining Room. It’s the perfect way to welcome the season — surrounded by blooming inspiration\, warm hospitality\, and timeless tradition. \nAs a special keepsake\, each guest will take home a beautiful “Tea for One” set to remember the occasion. \nSeating begins at 10:00 a.m.Brunch is served at 10:30 a.m. \nMenu Includes:\nStrawberry Mint Spritzer\nBanana Dark Chocolate Muffin\nRoasted Tomato\, Basil and Balsamic Crostini \nSpring Pea and Mint Soup\nCreamy Spring Peas with Shallot\, Leek\, and Fresh Mint. Pureed smooth and topped with Pea Tendril and Garlic Crouton. \nSpring Vegetable and Pancetta Tart\nPuff Pastry Tart with Mascarpone\, Crispy Pancetta\, Asparagus\, Leeks\, Carrots\, Fresh Herbs and Gruyere Cheese topped with a Lemon Thyme Bechamel. \nMassaged Kale Salad\nSalt Massed Kale with Parmesan Cheese\, toasted Pine Nuts\, Sundried Tomato topped with a Lemon Tahini Dressing. \nStrawberry and Basil Honey Tart\nHoney and Vanilla Creme with Fresh Strawberries in a Tart Shell with Purple Basil Micro Garnish. \nWe look forward to sharing this delightful spring tradition with you! \nCost is $70 per person\, complete. Reservations required. Book online below or call (989) 652-0450 for more information.
URL:https://ticketing.zehnders.com/event/zehnders-spring-tea-may-16-2026/
LOCATION:Zehnder’s of Frankenmuth\, 730 S. Main Street\, Frankenmuth\, MI\, 48734\, United States
CATEGORIES:Events,Special Menu,Spring,Zehnder's of Frankenmuth
ATTACH;FMTTYPE=image/jpeg:https://ticketing.zehnders.com/wp-content/uploads/2022/02/spring-tea.jpg
GEO:43.3270953;-83.7427951
X-APPLE-STRUCTURED-LOCATION;VALUE=URI;X-ADDRESS=Zehnder’s of Frankenmuth 730 S. Main Street Frankenmuth MI 48734 United States;X-APPLE-RADIUS=500;X-TITLE=730 S. Main Street:geo:-83.7427951,43.3270953
END:VEVENT
BEGIN:VEVENT
DTSTART;VALUE=DATE:20260520
DTEND;VALUE=DATE:20260522
DTSTAMP:20260425T095946
CREATED:20251001T192650Z
LAST-MODIFIED:20260421T165539Z
UID:10000707-1779235200-1779407999@ticketing.zehnders.com
SUMMARY:Shining Star - an Earth\, Wind & Fire Tribute - May 20 & 21\, 2026
DESCRIPTION:Ten highly talented vocalists and musicians harmoniously join forces to present A TRIBUTE TO EARTH\, WIND AND FIRE\, a celebration of the five decade strong success\, popularity and resilience of one of the most successful musical stories ever told…… \nThis amazing recreation of Earth\, Wind & Fire’s music and show is based on the 1970’s thru 1980’s\, the peak time of Earth\, Wind & Fire’s magical career\, and the highly acclaimed live recordings of their concerts later released on DVD’s. \nShining Star’s show play list has been hailed as the definitive collection of Earth\, Wind & Fire’s top charting hits\, and includes best loved songs such as After The Love Is Gone\, Sing A Song\, September\, the remake of the Beatles classic song Got To Get You Into My Life\, from the movie Sgt. Peppers Lonely Heart Club Band and their name sake Shining Star\, along with disco tracks\, Boogie Wonderland\, and Let’s Groove Tonight. \nEarth\, Wind & Fire has performed at countless award shows. They have also received 6 Grammy Awards and 4 American Music Awards. They have been inducted into both the Rock and Roll Hall of Fame and the Vocal Group Hall of Fame. Rolling Stone Magazine has described them as “innovative\, precise yet sensual\, calculated yet galvanizing” and has also declared that the band “changed the sound of R&B pop.” In 1998\, they were ranked at number 60 on VH1’s list of the 100 Greatest Artists of Rock N’ Roll. \nEarth\, Wind & Fire is known for the dynamic sound of their horn section and the interplay between the contrasting vocals of Philip Bailey’s falsetto and the late Maurice White’s tenor.\nShining Star ‘s live show consists of Lead Guitar\, Bass Guitar\, 2 Keyboardist\, Percussionists\, Drums\, 3 Piece Horn Section & The exact vocal reproduction Maurice White and Philip Bailey. \nToday\, no party is complete without them & no night on the town can end without hearing at least one of their harmony-laden tracks.\nEarth\, Wind & Fire’s music is ‘timeless’\, and fans around the world constantly crave the opportunity to hear their songs performed live. Shining Star now fills that void! \nLunch Shows – 12 noon\, $63 per person\nDinner Shows – 6 pm\, $70 per person\nIncludes meal\, tax\, tip and entertainment \nReservations required. Book online below or call (989) 652-0450. \n 
URL:https://ticketing.zehnders.com/event/shining-star-an-earth-wind-fire-tribute-may-20-21-2026/
LOCATION:Zehnder’s of Frankenmuth\, 730 S. Main Street\, Frankenmuth\, MI\, 48734\, United States
CATEGORIES:Events,Shows,Special Menu,Zehnder's of Frankenmuth
ATTACH;FMTTYPE=image/jpeg:https://ticketing.zehnders.com/wp-content/uploads/2025/09/Shining-Star-Promo-Pic-Blk-wide-2025-copy.jpg
GEO:43.3270953;-83.7427951
X-APPLE-STRUCTURED-LOCATION;VALUE=URI;X-ADDRESS=Zehnder’s of Frankenmuth 730 S. Main Street Frankenmuth MI 48734 United States;X-APPLE-RADIUS=500;X-TITLE=730 S. Main Street:geo:-83.7427951,43.3270953
END:VEVENT
END:VCALENDAR