BEGIN:VCALENDAR
VERSION:2.0
PRODID:-//Events - ECPv6.15.19//NONSGML v1.0//EN
CALSCALE:GREGORIAN
METHOD:PUBLISH
X-WR-CALNAME:Events
X-ORIGINAL-URL:https://ticketing.zehnders.com
X-WR-CALDESC:Events for Events
REFRESH-INTERVAL;VALUE=DURATION:PT1H
X-Robots-Tag:noindex
X-PUBLISHED-TTL:PT1H
BEGIN:VTIMEZONE
TZID:America/Detroit
BEGIN:DAYLIGHT
TZOFFSETFROM:-0500
TZOFFSETTO:-0400
TZNAME:EDT
DTSTART:20250309T070000
END:DAYLIGHT
BEGIN:STANDARD
TZOFFSETFROM:-0400
TZOFFSETTO:-0500
TZNAME:EST
DTSTART:20251102T060000
END:STANDARD
BEGIN:DAYLIGHT
TZOFFSETFROM:-0500
TZOFFSETTO:-0400
TZNAME:EDT
DTSTART:20260308T070000
END:DAYLIGHT
BEGIN:STANDARD
TZOFFSETFROM:-0400
TZOFFSETTO:-0500
TZNAME:EST
DTSTART:20261101T060000
END:STANDARD
BEGIN:DAYLIGHT
TZOFFSETFROM:-0500
TZOFFSETTO:-0400
TZNAME:EDT
DTSTART:20270314T070000
END:DAYLIGHT
BEGIN:STANDARD
TZOFFSETFROM:-0400
TZOFFSETTO:-0500
TZNAME:EST
DTSTART:20271107T060000
END:STANDARD
END:VTIMEZONE
BEGIN:VEVENT
DTSTART;TZID=America/Detroit:20260206T150000
DTEND;TZID=America/Detroit:20260206T193000
DTSTAMP:20260425T111737
CREATED:20260126T152658Z
LAST-MODIFIED:20260204T140546Z
UID:10000741-1770390000-1770406200@ticketing.zehnders.com
SUMMARY:Zehnder's Friday Night Fish Fry - February 6\, 2026
DESCRIPTION:Join us every Friday evening beginning February 6 through Good Friday in Z-Chef’s Café (lower level of Zehnder’s) for our popular Friday Night Fish Fry — featuring fresh flavors\, hearty comfort foods\, and something new each week. \nEach menu showcases Great Lakes Yellow Perch\, along with a rotating selection of seafood favorites\, classic Zehnder’s chicken\, savory soups\, fresh sides\, and our popular Stir Fry Station. No two Fridays are exactly alike\, but every meal delivers the quality and abundance Zehnder’s is known for. \nEnjoy an all-you-care-to-eat dinner for: \n$29.95 per person\nChildren ages 6–11: $11.95\nAges 3–5: $6.95\nUnder 3: FREE\nBeverage is additional\, Rewards birthday dinner not valid towards buffet. \nFebruary 6\, 2026 Menu Includes:\n• Featuring Great Lakes Yellow Perch\n• Breaded Jumbo Shrimp\n• Beer Battered Cod\n• Shrimp Bisque\n• Zehnder’s Golden Fried Chicken\n• Garlic Mashed Potatoes with Gravy\n• Roasted Normandy Vegetable Blend\n• Wild Rice with Broccoli Cheddar Sauce\n• Stir Fry Station\n• Cabbage Salad\n• Bakery Fresh Rolls\n• Assorted Desserts \nFebruary 13\, 2026 Menu Includes:\n• Featuring Great Lakes Yellow Perch\n• Breaded Jumbo Shrimp\n• Baked Salmon with Lemon Dill Butter\n• New England Clam Chowder\n• Southern Fried Chicken\n• Au Gratin Potatoes\n• Prince Edward Medley Vegetable Blend\n• Penne Pasta with Basil Cream Sauce\n• Stir Fry Station\n• Cabbage Salad\n• Bakery Fresh Rolls\n• Assorted Desserts \nFebruary 20\, 2026 Menu Includes:\n• Featuring Great Lakes Yellow Perch\n• Breaded Jumbo Shrimp\n• Great Lakes Fried Walleye\n• Seafood Gumbo\n• Zehnder’s Baked Chicken\n• Yukon Gold Mashed Potatoes with Chicken Gravy\n• Maui Blend Vegetables\n• Buttered Noodles with Cracker Crumb Topping\n• Stir Fry Station\n• Cabbage Salad\n• Bakery Fresh Rolls\n• Assorted Desserts \nFebruary 27\, 2026 Menu Includes:\n• Featuring Great Lakes Yellow Perch\n• Breaded Jumbo Shrimp\n• Zehnder’s Baked Whitefish Ardussi\n• New England Clam Chowder\n• Zehnder’s Herb Roasted Chicken\n• Redskin Mashed Potatoes with Chicken Gravy\n• Sauteed Green Beans with Red Peppers\n• House-made Macaroni & Cheese\n• Stir Fry Station\n• Cabbage Salad\n• Bakery Fresh Rolls\n• Assorted Desserts \nMarch 6\, 2025\n• Featuring Great Lakes Yellow Perch\n• Breaded Jumbo Shrimp\n• Beer Battered Cod\n• Shrimp Bisque\n• Zehnder’s Golden Fried Chicken\n• Garlic Mashed Potatoes with Chicken Gravy\n• Roasted Normandy Vegetable Blend\n• Wild Rice with Broccoli Cheddar Sauce\n• Stir Fry Station\n• Cabbage Salad\n• Bakery Fresh Rolls\n• Assorted Desserts \nMarch 13\, 2026\n• Featuring Great Lakes Yellow Perch\n• Breaded Jumbo Shrimp\n• Baked Salmon with Lemon Dill Butter\n• New England Clam Chowder\n• Southern Fried Chicken\n• Au Gratin Potatoes\n• Prince Edward Medley Vegetable Blend\n• Penne Pasta with Basil Cream Sauce\n• Stir Fry Station\n• Cabbage Salad\n• Bakery Fresh Rolls\n• Assorted Desserts \nAll Menus Include our Seafood Stir Fry Station:\n• Shrimp\n• Scallops\n• Julienne Chicken Breasts\n• Angel Hair Pasta\n• Fettuccine\n• Broccoli\n• Carrots\n• Pea Pods\n• Sweet Peppers\n• Onions\n• Thai Chili\n• Alfredo Sauce\n• Teriyaki \n🍽️ Take It To-Go!\nPrefer to enjoy at home? Our Fish Fry is also available to-go for $26.95 per dinner\, which includes: \n• 5 Great Lakes Yellow Perch fillets or 5 Jumbo Shrimp\n• Soup of the day\n• Potato special\n• House-made cabbage salad\n• Bakery fresh dinner roll(Beverage additional) \nAvailable all day every Friday for dine-in or take-out. Order online here: https://www.zehndersrewards.com \nMake Friday nights a tradition with Zehnder’s — where Great Lakes flavor meets classic comfort. Questions? Please call (989) 652-0450. Click here to download a flyer.
URL:https://ticketing.zehnders.com/event/zehnders-friday-night-fish-fry-february-6-2026/
LOCATION:Zehnder’s of Frankenmuth\, 730 S. Main Street\, Frankenmuth\, MI\, 48734\, United States
CATEGORIES:Events,Fish Fry,Special Menu
ATTACH;FMTTYPE=image/jpeg:https://ticketing.zehnders.com/wp-content/uploads/2025/04/fish-fry-1.jpg
GEO:43.3270953;-83.7427951
X-APPLE-STRUCTURED-LOCATION;VALUE=URI;X-ADDRESS=Zehnder’s of Frankenmuth 730 S. Main Street Frankenmuth MI 48734 United States;X-APPLE-RADIUS=500;X-TITLE=730 S. Main Street:geo:-83.7427951,43.3270953
END:VEVENT
BEGIN:VEVENT
DTSTART;TZID=America/Detroit:20260213T150000
DTEND;TZID=America/Detroit:20260213T193000
DTSTAMP:20260425T111737
CREATED:20260126T152903Z
LAST-MODIFIED:20260204T141253Z
UID:10000742-1770994800-1771011000@ticketing.zehnders.com
SUMMARY:Zehnder's Friday Night Fish Fry - February 13\, 2026
DESCRIPTION:Join us every Friday evening beginning February 6 through Good Friday in Z-Chef’s Café (lower level of Zehnder’s) for our popular Friday Night Fish Fry — featuring fresh flavors\, hearty comfort foods\, and something new each week. \nEach menu showcases Great Lakes Yellow Perch\, along with a rotating selection of seafood favorites\, classic Zehnder’s chicken\, savory soups\, fresh sides\, and our popular Stir Fry Station. No two Fridays are exactly alike\, but every meal delivers the quality and abundance Zehnder’s is known for. \nEnjoy an all-you-care-to-eat dinner for: \n$29.95 per person\nChildren ages 6–11: $11.95\nAges 3–5: $6.95\nUnder 3: FREE\nBeverage is additional\, Rewards birthday dinner not valid towards buffet. \nFebruary 13\, 2026 Menu Includes:\n• Featuring Great Lakes Yellow Perch\n• Breaded Jumbo Shrimp\n• Baked Salmon with Lemon Dill Butter\n• New England Clam Chowder\n• Southern Fried Chicken\n• Au Gratin Potatoes\n• Prince Edward Medley Vegetable Blend\n• Penne Pasta with Basil Cream Sauce\n• Stir Fry Station\n• Cabbage Salad\n• Bakery Fresh Rolls\n• Assorted Desserts \nFebruary 20\, 2026 Menu Includes:\n• Featuring Great Lakes Yellow Perch\n• Breaded Jumbo Shrimp\n• Great Lakes Fried Walleye\n• Seafood Gumbo\n• Zehnder’s Baked Chicken\n• Yukon Gold Mashed Potatoes with Chicken Gravy\n• Maui Blend Vegetables\n• Buttered Noodles with Cracker Crumb Topping\n• Stir Fry Station\n• Cabbage Salad\n• Bakery Fresh Rolls\n• Assorted Desserts \nFebruary 27\, 2026 Menu Includes:\n• Featuring Great Lakes Yellow Perch\n• Breaded Jumbo Shrimp\n• Zehnder’s Baked Whitefish Ardussi\n• New England Clam Chowder\n• Zehnder’s Herb Roasted Chicken\n• Redskin Mashed Potatoes with Chicken Gravy\n• Sauteed Green Beans with Red Peppers\n• House-made Macaroni & Cheese\n• Stir Fry Station\n• Cabbage Salad\n• Bakery Fresh Rolls\n• Assorted Desserts \nMarch 6\, 2025\n• Featuring Great Lakes Yellow Perch\n• Breaded Jumbo Shrimp\n• Beer Battered Cod\n• Shrimp Bisque\n• Zehnder’s Golden Fried Chicken\n• Garlic Mashed Potatoes with Chicken Gravy\n• Roasted Normandy Vegetable Blend\n• Wild Rice with Broccoli Cheddar Sauce\n• Stir Fry Station\n• Cabbage Salad\n• Bakery Fresh Rolls\n• Assorted Desserts \nMarch 13\, 2026\n• Featuring Great Lakes Yellow Perch\n• Breaded Jumbo Shrimp\n• Baked Salmon with Lemon Dill Butter\n• New England Clam Chowder\n• Southern Fried Chicken\n• Au Gratin Potatoes\n• Prince Edward Medley Vegetable Blend\n• Penne Pasta with Basil Cream Sauce\n• Stir Fry Station\n• Cabbage Salad\n• Bakery Fresh Rolls\n• Assorted Desserts \nAll Menus Include our Seafood Stir Fry Station:\n• Shrimp\n• Scallops\n• Julienne Chicken Breasts\n• Angel Hair Pasta\n• Fettuccine\n• Broccoli\n• Carrots\n• Pea Pods\n• Sweet Peppers\n• Onions\n• Thai Chili\n• Alfredo Sauce\n• Teriyaki \n🍽️ Take It To-Go!\nPrefer to enjoy at home? Our Fish Fry is also available to-go for $26.95 per dinner\, which includes: \n• 5 Great Lakes Yellow Perch fillets or 5 Jumbo Shrimp\n• Soup of the day\n• Potato special\n• House-made cabbage salad\n• Bakery fresh dinner roll(Beverage additional) \nAvailable all day every Friday for dine-in or take-out. Order online here: https://www.zehndersrewards.com \nMake Friday nights a tradition with Zehnder’s — where Great Lakes flavor meets classic comfort. Questions? Please call (989) 652-0450. Click here to download a flyer.
URL:https://ticketing.zehnders.com/event/zehnders-friday-night-fish-fry-february-13-2026/
LOCATION:Zehnder’s of Frankenmuth\, 730 S. Main Street\, Frankenmuth\, MI\, 48734\, United States
CATEGORIES:Events,Fish Fry,Special Menu
ATTACH;FMTTYPE=image/jpeg:https://ticketing.zehnders.com/wp-content/uploads/2025/04/fish-fry-1.jpg
GEO:43.3270953;-83.7427951
X-APPLE-STRUCTURED-LOCATION;VALUE=URI;X-ADDRESS=Zehnder’s of Frankenmuth 730 S. Main Street Frankenmuth MI 48734 United States;X-APPLE-RADIUS=500;X-TITLE=730 S. Main Street:geo:-83.7427951,43.3270953
END:VEVENT
BEGIN:VEVENT
DTSTART;TZID=America/Detroit:20260220T150000
DTEND;TZID=America/Detroit:20260220T193000
DTSTAMP:20260425T111737
CREATED:20260126T153330Z
LAST-MODIFIED:20260204T141334Z
UID:10000743-1771599600-1771615800@ticketing.zehnders.com
SUMMARY:Zehnder's Friday Night Fish Fry - February 20\, 2026
DESCRIPTION:Join us every Friday evening beginning February 6 through Good Friday in Z-Chef’s Café (lower level of Zehnder’s) for our popular Friday Night Fish Fry — featuring fresh flavors\, hearty comfort foods\, and something new each week. \nEach menu showcases Great Lakes Yellow Perch\, along with a rotating selection of seafood favorites\, classic Zehnder’s chicken\, savory soups\, fresh sides\, and our popular Stir Fry Station. No two Fridays are exactly alike\, but every meal delivers the quality and abundance Zehnder’s is known for. \nEnjoy an all-you-care-to-eat dinner for: \n$29.95 per person\nChildren ages 6–11: $11.95\nAges 3–5: $6.95\nUnder 3: FREE\nBeverage is additional\, Rewards birthday dinner not valid towards buffet. \nFebruary 20\, 2026 Menu Includes:\n• Featuring Great Lakes Yellow Perch\n• Breaded Jumbo Shrimp\n• Great Lakes Fried Walleye\n• Seafood Gumbo\n• Zehnder’s Baked Chicken\n• Yukon Gold Mashed Potatoes with Chicken Gravy\n• Maui Blend Vegetables\n• Buttered Noodles with Cracker Crumb Topping\n• Stir Fry Station\n• Cabbage Salad\n• Bakery Fresh Rolls\n• Assorted Desserts \nFebruary 27\, 2026 Menu Includes:\n• Featuring Great Lakes Yellow Perch\n• Breaded Jumbo Shrimp\n• Zehnder’s Baked Whitefish Ardussi\n• New England Clam Chowder\n• Zehnder’s Herb Roasted Chicken\n• Redskin Mashed Potatoes with Chicken Gravy\n• Sauteed Green Beans with Red Peppers\n• House-made Macaroni & Cheese\n• Stir Fry Station\n• Cabbage Salad\n• Bakery Fresh Rolls\n• Assorted Desserts \nMarch 6\, 2025\n• Featuring Great Lakes Yellow Perch\n• Breaded Jumbo Shrimp\n• Beer Battered Cod\n• Shrimp Bisque\n• Zehnder’s Golden Fried Chicken\n• Garlic Mashed Potatoes with Chicken Gravy\n• Roasted Normandy Vegetable Blend\n• Wild Rice with Broccoli Cheddar Sauce\n• Stir Fry Station\n• Cabbage Salad\n• Bakery Fresh Rolls\n• Assorted Desserts \nMarch 13\, 2026\n• Featuring Great Lakes Yellow Perch\n• Breaded Jumbo Shrimp\n• Baked Salmon with Lemon Dill Butter\n• New England Clam Chowder\n• Southern Fried Chicken\n• Au Gratin Potatoes\n• Prince Edward Medley Vegetable Blend\n• Penne Pasta with Basil Cream Sauce\n• Stir Fry Station\n• Cabbage Salad\n• Bakery Fresh Rolls\n• Assorted Desserts \nAll Menus Include our Seafood Stir Fry Station:\n• Shrimp\n• Scallops\n• Julienne Chicken Breasts\n• Angel Hair Pasta\n• Fettuccine\n• Broccoli\n• Carrots\n• Pea Pods\n• Sweet Peppers\n• Onions\n• Thai Chili\n• Alfredo Sauce\n• Teriyaki \n🍽️ Take It To-Go!\nPrefer to enjoy at home? Our Fish Fry is also available to-go for $26.95 per dinner\, which includes: \n• 5 Great Lakes Yellow Perch fillets or 5 Jumbo Shrimp\n• Soup of the day\n• Potato special\n• House-made cabbage salad\n• Bakery fresh dinner roll(Beverage additional) \nAvailable all day every Friday for dine-in or take-out. Order online here: https://www.zehndersrewards.com \nMake Friday nights a tradition with Zehnder’s — where Great Lakes flavor meets classic comfort. Questions? Please call (989) 652-0450. Click here to download a flyer.
URL:https://ticketing.zehnders.com/event/zehnders-friday-night-fish-fry-february-20-2026/
LOCATION:Zehnder’s of Frankenmuth\, 730 S. Main Street\, Frankenmuth\, MI\, 48734\, United States
CATEGORIES:Events,Fish Fry,Special Menu
ATTACH;FMTTYPE=image/jpeg:https://ticketing.zehnders.com/wp-content/uploads/2025/04/fish-fry-1.jpg
GEO:43.3270953;-83.7427951
X-APPLE-STRUCTURED-LOCATION;VALUE=URI;X-ADDRESS=Zehnder’s of Frankenmuth 730 S. Main Street Frankenmuth MI 48734 United States;X-APPLE-RADIUS=500;X-TITLE=730 S. Main Street:geo:-83.7427951,43.3270953
END:VEVENT
BEGIN:VEVENT
DTSTART;VALUE=DATE:20260225
DTEND;VALUE=DATE:20260227
DTSTAMP:20260425T111737
CREATED:20250917T165528Z
LAST-MODIFIED:20260225T170543Z
UID:10000702-1771977600-1772150399@ticketing.zehnders.com
SUMMARY:Captain Fantastic - A Tribute to Elton John - February 25 & 26\, 2026
DESCRIPTION:For many decades\, Elton John has been one of the greatest entertainers and continues to astonish audiences all around the globe with his music and outstanding performances. Ron Foss Captain Fantastic Detroit is not only an amazing tribute to this great entertainer\, he also bears a striking resemblance of Sir Elton John. His piano style and vocals will have you thinking you are part of the real concert event. \nRon started playing piano at age 7 and was constantly searching for a pop piano player. Then in the 70’s\, the Yellow Brick Road album hit the airwaves and Ron was hooked. He bought the song book and learned most of Elton John’s songs at an early age and in time started to wear Elton John style glasses. Now at every tribute concert\, Ron Foss has the awesome opportunity to pay homage to the man who inspired him to become the entertainer he is today. \nLunch Shows – February 25 & 26\, 2026 at 12 noon – $63 per person\nDinner Show – February 25\, 2026 at 6 pm – $70 per person\nCost includes meal\, tax\, tip and entertainment \nReservations required\, book online below or call (989) 652-0450. 
URL:https://ticketing.zehnders.com/event/captain-fantastic-a-tribute-to-elton-john/
LOCATION:Zehnder’s of Frankenmuth\, 730 S. Main Street\, Frankenmuth\, MI\, 48734\, United States
CATEGORIES:Events,Shows,Special Menu,Zehnder's of Frankenmuth
ATTACH;FMTTYPE=image/jpeg:https://ticketing.zehnders.com/wp-content/uploads/2023/08/Elton-John-Tribute-1000x450-1.jpg
GEO:43.3270953;-83.7427951
X-APPLE-STRUCTURED-LOCATION;VALUE=URI;X-ADDRESS=Zehnder’s of Frankenmuth 730 S. Main Street Frankenmuth MI 48734 United States;X-APPLE-RADIUS=500;X-TITLE=730 S. Main Street:geo:-83.7427951,43.3270953
END:VEVENT
BEGIN:VEVENT
DTSTART;TZID=America/Detroit:20260227T150000
DTEND;TZID=America/Detroit:20260227T193000
DTSTAMP:20260425T111737
CREATED:20260203T182743Z
LAST-MODIFIED:20260204T141426Z
UID:10000744-1772204400-1772220600@ticketing.zehnders.com
SUMMARY:Zehnder's Friday Night Fish Fry - February 27\, 2026
DESCRIPTION:Join us every Friday evening now through Good Friday in Z-Chef’s Café (lower level of Zehnder’s) for our popular Friday Night Fish Fry — featuring fresh flavors\, hearty comfort foods\, and something new each week. \nEach menu showcases Great Lakes Yellow Perch\, along with a rotating selection of seafood favorites\, classic Zehnder’s chicken\, savory soups\, fresh sides\, and our popular Stir Fry Station. No two Fridays are exactly alike\, but every meal delivers the quality and abundance Zehnder’s is known for. \nEnjoy an all-you-care-to-eat dinner for: \n$29.95 per person\nChildren ages 6–11: $11.95\nAges 3–5: $6.95\nUnder 3: FREE\nBeverage is additional\, Rewards birthday dinner not valid towards buffet. \nFebruary 27\, 2026 Menu Includes:\n• Featuring Great Lakes Yellow Perch\n• Breaded Jumbo Shrimp\n• Zehnder’s Baked Whitefish Ardussi\n• New England Clam Chowder\n• Zehnder’s Herb Roasted Chicken\n• Redskin Mashed Potatoes with Chicken Gravy\n• Sauteed Green Beans with Red Peppers\n• House-made Macaroni & Cheese\n• Stir Fry Station\n• Cabbage Salad\n• Bakery Fresh Rolls\n• Assorted Desserts \nMarch 6\, 2025\n• Featuring Great Lakes Yellow Perch\n• Breaded Jumbo Shrimp\n• Beer Battered Cod\n• Shrimp Bisque\n• Zehnder’s Golden Fried Chicken\n• Garlic Mashed Potatoes with Chicken Gravy\n• Roasted Normandy Vegetable Blend\n• Wild Rice with Broccoli Cheddar Sauce\n• Stir Fry Station\n• Cabbage Salad\n• Bakery Fresh Rolls\n• Assorted Desserts \nMarch 13\, 2026\n• Featuring Great Lakes Yellow Perch\n• Breaded Jumbo Shrimp\n• Baked Salmon with Lemon Dill Butter\n• New England Clam Chowder\n• Southern Fried Chicken\n• Au Gratin Potatoes\n• Prince Edward Medley Vegetable Blend\n• Penne Pasta with Basil Cream Sauce\n• Stir Fry Station\n• Cabbage Salad\n• Bakery Fresh Rolls\n• Assorted Desserts \nAll Menus Include our Seafood Stir Fry Station:\n• Shrimp\n• Scallops\n• Julienne Chicken Breasts\n• Angel Hair Pasta\n• Fettuccine\n• Broccoli\n• Carrots\n• Pea Pods\n• Sweet Peppers\n• Onions\n• Thai Chili\n• Alfredo Sauce\n• Teriyaki \n🍽️ Take It To-Go!\nPrefer to enjoy at home? Our Fish Fry is also available to-go for $26.95 per dinner\, which includes: \n• 5 Great Lakes Yellow Perch fillets or 5 Jumbo Shrimp\n• Soup of the day\n• Potato special\n• House-made cabbage salad\n• Bakery fresh dinner roll(Beverage additional) \nAvailable all day every Friday for dine-in or take-out. Order online here: https://www.zehndersrewards.com \nMake Friday nights a tradition with Zehnder’s — where Great Lakes flavor meets classic comfort. Questions? Please call (989) 652-0450. Click here to download a flyer.
URL:https://ticketing.zehnders.com/event/zehnders-friday-night-fish-fry-february-27-2026/
LOCATION:Zehnder’s of Frankenmuth\, 730 S. Main Street\, Frankenmuth\, MI\, 48734\, United States
CATEGORIES:Events,Fish Fry,Special Menu,Zehnder's of Frankenmuth
ATTACH;FMTTYPE=image/jpeg:https://ticketing.zehnders.com/wp-content/uploads/2024/01/fish-fry.jpg
GEO:43.3270953;-83.7427951
X-APPLE-STRUCTURED-LOCATION;VALUE=URI;X-ADDRESS=Zehnder’s of Frankenmuth 730 S. Main Street Frankenmuth MI 48734 United States;X-APPLE-RADIUS=500;X-TITLE=730 S. Main Street:geo:-83.7427951,43.3270953
END:VEVENT
END:VCALENDAR