BEGIN:VCALENDAR
VERSION:2.0
PRODID:-//Events - ECPv6.15.19//NONSGML v1.0//EN
CALSCALE:GREGORIAN
METHOD:PUBLISH
X-ORIGINAL-URL:https://ticketing.zehnders.com
X-WR-CALDESC:Events for Events
REFRESH-INTERVAL;VALUE=DURATION:PT1H
X-Robots-Tag:noindex
X-PUBLISHED-TTL:PT1H
BEGIN:VTIMEZONE
TZID:America/Detroit
BEGIN:DAYLIGHT
TZOFFSETFROM:-0500
TZOFFSETTO:-0400
TZNAME:EDT
DTSTART:20240310T070000
END:DAYLIGHT
BEGIN:STANDARD
TZOFFSETFROM:-0400
TZOFFSETTO:-0500
TZNAME:EST
DTSTART:20241103T060000
END:STANDARD
BEGIN:DAYLIGHT
TZOFFSETFROM:-0500
TZOFFSETTO:-0400
TZNAME:EDT
DTSTART:20250309T070000
END:DAYLIGHT
BEGIN:STANDARD
TZOFFSETFROM:-0400
TZOFFSETTO:-0500
TZNAME:EST
DTSTART:20251102T060000
END:STANDARD
BEGIN:DAYLIGHT
TZOFFSETFROM:-0500
TZOFFSETTO:-0400
TZNAME:EDT
DTSTART:20260308T070000
END:DAYLIGHT
BEGIN:STANDARD
TZOFFSETFROM:-0400
TZOFFSETTO:-0500
TZNAME:EST
DTSTART:20261101T060000
END:STANDARD
END:VTIMEZONE
BEGIN:VEVENT
DTSTART;VALUE=DATE:20250915
DTEND;VALUE=DATE:20250919
DTSTAMP:20260425T193852
CREATED:20240828T192137Z
LAST-MODIFIED:20250905T133624Z
UID:10000620-1757894400-1758239999@ticketing.zehnders.com
SUMMARY:Rockin' Oldies Beach Party Boys Lunch and Dinner Shows - September 15-18\, 2025
DESCRIPTION:The Beach Party Boys are in their 10th year of non-stop touring. They have been described as the Ultimate Beach Party coming to life! The show is fast paced and interactive with a focus on lots of nostalgia to awaken the teenage hearts of all those who carried a Transistor Radio in the 60’s! The authentic look\, musical instrumentation\, and detailed harmony of the Beach Boys are reproduced with a spot on representation of the real deal. \nAudiences will be singing along to their favorite songs like Barbara Ann\, Help Me Rhonda\, Surfin’ USA\, Little Deuce Coupe\, and Good Vibrations – the number ONE SONG OF ALL TIME! Not to mention other classics by Jan and Dean – California Sun by The Rivieras – and classics from the iconic Pet Sounds album like Sloop John B\, Wouldn’t It Be Nice and God Only Knows. Beach Party Boys are the ULTIMATE BEACH PARTY! \nLunch Shows – 12 noon\n$61 per person \nDinner Shows (Sept. 16 & 17 only) – 6:00 pm\n$69 per person \nCost includes meal\, tax\, tip and entertainment. Call (989) 652-0450 for more information or book online below.
URL:https://ticketing.zehnders.com/event/beach-party-boys-lunch-and-dinner-shows-september-15-18-2025/
LOCATION:Zehnder’s of Frankenmuth\, 730 S. Main Street\, Frankenmuth\, MI\, 48734\, United States
CATEGORIES:Events,Shows,Special Menu,Zehnder's of Frankenmuth
ATTACH;FMTTYPE=image/jpeg:https://ticketing.zehnders.com/wp-content/uploads/2024/08/Beach-Party-Boys-2025.jpg
GEO:43.3270953;-83.7427951
X-APPLE-STRUCTURED-LOCATION;VALUE=URI;X-ADDRESS=Zehnder’s of Frankenmuth 730 S. Main Street Frankenmuth MI 48734 United States;X-APPLE-RADIUS=500;X-TITLE=730 S. Main Street:geo:-83.7427951,43.3270953
END:VEVENT
BEGIN:VEVENT
DTSTART;TZID=America/Detroit:20250927T103000
DTEND;TZID=America/Detroit:20250927T120000
DTSTAMP:20260425T193852
CREATED:20250812T152245Z
LAST-MODIFIED:20250820T190432Z
UID:10000693-1758969000-1758974400@ticketing.zehnders.com
SUMMARY:Zehnder's Fall Tea - September 27\, 2025
DESCRIPTION:Celebrate fall with friends and family at Zehnder’s upcoming Fall Harvest Tea on Saturday\, September 27\, 2025 starting at 10:30 am (seating begins at 10:00 am) in the Townhall dining room. Enjoy a delicious meal with a variety of teas and take home your own fall teacup and saucer as a special keepsake. \nThe Fall Harvest Tea Menu Includes:\n• Sweet Potato Bleu Cheese Crostini\n• Apple Cinnamon Muffin\n• Zucchini and Chocolate Pound Bread\n• Curried Carrot and Autumn Apple Soup – Fresh Carrot Bisque with Garam Masala and Fall Granny Smith Apples topped with Bulls Blood Microgreens and Creme Fraiche\n• Fall Roasted Delicata Squash Salad – Field Greens\, Arugula\, Roasted Delicata Squash\, Toasted Pecans\, Shaved Fennel and Maple Cranberry Dijon Vinaigrette\n• Whole Grain Roll with Whipped Citrus Butter\n• Pear\, Goat Cheese\, and Arugula Stuffed Chicken Breast – Chicken Breast with Asian Pears\, Creamy Goat Cheese\, Toasted Walnuts\, Baby Arugula with a Fig Balsamic Glaze\n• Roasted Brussel Sprouts with Shallots and Red Wine Vinaigrette\n• Farro “Risotto” with Butternut Squash\, Purple Cauliflower\, Toasted Pine Nuts\, Golden Raisins and Local Honey\n• Cinnamon Apple Blondie with Maple Caramel – Rich Cinnamon Apple Blondie with Maple Caramel \nCost is $68 per person\, advance reservations required. Book online below or call (989) 652-0450 for more information. \nThis event does have assigned seating. If you have any special requests\, please include that information in your reservation.\n\nPlease Note: Due to limited space and availability\, seating is limited and will be provided for ticketed guests only. Strollers and highchairs will not be permitted in the dining room for this event.
URL:https://ticketing.zehnders.com/event/zehnders-fall-tea-september-27-2025/
LOCATION:Zehnder’s of Frankenmuth\, 730 S. Main Street\, Frankenmuth\, MI\, 48734\, United States
CATEGORIES:Events,Fall Events,Special Menu,Zehnder's of Frankenmuth
ATTACH;FMTTYPE=image/jpeg:https://ticketing.zehnders.com/wp-content/uploads/2024/07/Fall-Tea-2024.jpg
GEO:43.3270953;-83.7427951
X-APPLE-STRUCTURED-LOCATION;VALUE=URI;X-ADDRESS=Zehnder’s of Frankenmuth 730 S. Main Street Frankenmuth MI 48734 United States;X-APPLE-RADIUS=500;X-TITLE=730 S. Main Street:geo:-83.7427951,43.3270953
END:VEVENT
END:VCALENDAR